BEGIN:VCALENDAR
VERSION:2.0
PRODID:-//Raum der Stille Deggendorf - ECPv6.15.20//NONSGML v1.0//EN
CALSCALE:GREGORIAN
METHOD:PUBLISH
X-WR-CALNAME:Raum der Stille Deggendorf
X-ORIGINAL-URL:https://raum-der-stille-deggendorf.de
X-WR-CALDESC:Veranstaltungen für Raum der Stille Deggendorf
REFRESH-INTERVAL;VALUE=DURATION:PT1H
X-Robots-Tag:noindex
X-PUBLISHED-TTL:PT1H
BEGIN:VTIMEZONE
TZID:Europe/Berlin
BEGIN:DAYLIGHT
TZOFFSETFROM:+0100
TZOFFSETTO:+0200
TZNAME:CEST
DTSTART:20240331T010000
END:DAYLIGHT
BEGIN:STANDARD
TZOFFSETFROM:+0200
TZOFFSETTO:+0100
TZNAME:CET
DTSTART:20241027T010000
END:STANDARD
BEGIN:DAYLIGHT
TZOFFSETFROM:+0100
TZOFFSETTO:+0200
TZNAME:CEST
DTSTART:20250330T010000
END:DAYLIGHT
BEGIN:STANDARD
TZOFFSETFROM:+0200
TZOFFSETTO:+0100
TZNAME:CET
DTSTART:20251026T010000
END:STANDARD
BEGIN:DAYLIGHT
TZOFFSETFROM:+0100
TZOFFSETTO:+0200
TZNAME:CEST
DTSTART:20260329T010000
END:DAYLIGHT
BEGIN:STANDARD
TZOFFSETFROM:+0200
TZOFFSETTO:+0100
TZNAME:CET
DTSTART:20261025T010000
END:STANDARD
END:VTIMEZONE
BEGIN:VEVENT
DTSTART;TZID=Europe/Berlin:20250730T183000
DTEND;TZID=Europe/Berlin:20250730T193000
DTSTAMP:20260425T004500
CREATED:20250508T092909Z
LAST-MODIFIED:20250726T130001Z
UID:1480-1753900200-1753903800@raum-der-stille-deggendorf.de
SUMMARY:Ashtanga Yoga Basic mit Gisi Pledl
DESCRIPTION:Ashtanga Yoga Basic (für Anfänger geeignet) mit Gisi Pledl\nam Mittwoch\, den 30.07.2025 von 18:30 Uhr bis 19:30 Uhr (oder 19:45 Uhr) \nAshtanga Yoga ist ein dynamischer und körperlich fordernder Yogastil mit einer festen Abfolge von Asanas.\nAshtanga Yoga ist eine Verbindung zwischen Bewegung und Atmung.\nAshtanga Yoga fördert Kraft\, Flexibilität\, Ausdauer und geistige Klarheit. \nIn der Basic Ausführung werden die einzelnen Positonen vereinfacht geübt\, daher kannst du als Anfänger jederzeit damit beginnen. Probier’s einfach aus.\nAuch als erfahrener Yogi bist du willkommen und praktizierst die Asanas in deiner Form. \nBring dir bitte deine Yogamatte mit und gerne auch eine Wasserflasche. Trinkwasser ist nah am Raum der Stille aus dem Waldwasser-Enten-Brunnen frisch zu zapfen. Es ist keine Anmeldung nötig. Findet bei gutem Wetter draussen statt – bei schlechtem Wetter drinnen (Obacht: drinnen begrenzte Platzzahl).\nAuf Spendenbasis (bedeutet: gib so viel du magst/kannst. Gerne mehr. So lädst du jemanden ein\, der nicht so viel hat ❤️)
URL:https://raum-der-stille-deggendorf.de/veranstaltung/ashtanga-yoga-basic-mit-gisi-pledl/
LOCATION:Raum der Stille\, Deggendorf
END:VEVENT
END:VCALENDAR