BEGIN:VCALENDAR
VERSION:2.0
PRODID:-//Raum der Stille Deggendorf - ECPv6.15.20//NONSGML v1.0//EN
CALSCALE:GREGORIAN
METHOD:PUBLISH
X-WR-CALNAME:Raum der Stille Deggendorf
X-ORIGINAL-URL:https://raum-der-stille-deggendorf.de
X-WR-CALDESC:Veranstaltungen für Raum der Stille Deggendorf
REFRESH-INTERVAL;VALUE=DURATION:PT1H
X-Robots-Tag:noindex
X-PUBLISHED-TTL:PT1H
BEGIN:VTIMEZONE
TZID:Europe/Berlin
BEGIN:DAYLIGHT
TZOFFSETFROM:+0100
TZOFFSETTO:+0200
TZNAME:CEST
DTSTART:20250330T010000
END:DAYLIGHT
BEGIN:STANDARD
TZOFFSETFROM:+0200
TZOFFSETTO:+0100
TZNAME:CET
DTSTART:20251026T010000
END:STANDARD
BEGIN:DAYLIGHT
TZOFFSETFROM:+0100
TZOFFSETTO:+0200
TZNAME:CEST
DTSTART:20260329T010000
END:DAYLIGHT
BEGIN:STANDARD
TZOFFSETFROM:+0200
TZOFFSETTO:+0100
TZNAME:CET
DTSTART:20261025T010000
END:STANDARD
BEGIN:DAYLIGHT
TZOFFSETFROM:+0100
TZOFFSETTO:+0200
TZNAME:CEST
DTSTART:20270328T010000
END:DAYLIGHT
BEGIN:STANDARD
TZOFFSETFROM:+0200
TZOFFSETTO:+0100
TZNAME:CET
DTSTART:20271031T010000
END:STANDARD
END:VTIMEZONE
BEGIN:VEVENT
DTSTART;TZID=Europe/Berlin:20260510T170000
DTEND;TZID=Europe/Berlin:20260510T190000
DTSTAMP:20260420T062420
CREATED:20260409T060539Z
LAST-MODIFIED:20260414T094004Z
UID:2783-1778432400-1778439600@raum-der-stille-deggendorf.de
SUMMARY:AUNDA - ein Einblick in die Frequenzarbeit mit Julia
DESCRIPTION:AUNDA – ein Einblick in die Frequenzarbeit mit Julia im Raum der Stille\nAm Sonntag\, den 10.05.2026 von 17:00 Uhr bis ca. 19:00 Uhr \nvon Julia für Euch: \n\nDich erwartet ein entspannte Meditation zum ankommen & wurzeln\nein fühlen meiner Heilarbeit mit Aunda\nein Ausgleich und Reinigung der Chakren\n\nBitte mitbringen: gute Laune\, eine Decke\, eine Matte\, gerne ein Sitzkissen\, etwas zu trinken und eine gefüllte warme Wärmflasche\nKomm gerne in bequemer\, sportlicher Kleidung\, die dem Wetter angepasst ist. (Lieber ziehst Du dann etwas aus\, als dass dich friert) \nAuf Spendenbasis. Das bedeutet: bezahl was Du willst/kannst. Gerne auch ein wenig mehr – so lädst Du jemanden ein\, der nicht so viel hat.\nBitte direkt bei Julia anmelden: https://www.instagram.com/little.witch333/\nWenn Du kein Instagram hast\, dann schreib gerne an kontakt@raum-der-stille-deggendorf.de
URL:https://raum-der-stille-deggendorf.de/veranstaltung/aunda-ein-einblick-in-die-frequenzarbeit-mit-julia/
LOCATION:Raum der Stille\, Deggendorf
END:VEVENT
END:VCALENDAR