BEGIN:VCALENDAR
VERSION:2.0
PRODID:-//Raum der Stille Deggendorf - ECPv6.15.20//NONSGML v1.0//EN
CALSCALE:GREGORIAN
METHOD:PUBLISH
X-ORIGINAL-URL:https://raum-der-stille-deggendorf.de
X-WR-CALDESC:Veranstaltungen für Raum der Stille Deggendorf
REFRESH-INTERVAL;VALUE=DURATION:PT1H
X-Robots-Tag:noindex
X-PUBLISHED-TTL:PT1H
BEGIN:VTIMEZONE
TZID:Europe/Berlin
BEGIN:DAYLIGHT
TZOFFSETFROM:+0100
TZOFFSETTO:+0200
TZNAME:CEST
DTSTART:20250330T010000
END:DAYLIGHT
BEGIN:STANDARD
TZOFFSETFROM:+0200
TZOFFSETTO:+0100
TZNAME:CET
DTSTART:20251026T010000
END:STANDARD
BEGIN:DAYLIGHT
TZOFFSETFROM:+0100
TZOFFSETTO:+0200
TZNAME:CEST
DTSTART:20260329T010000
END:DAYLIGHT
BEGIN:STANDARD
TZOFFSETFROM:+0200
TZOFFSETTO:+0100
TZNAME:CET
DTSTART:20261025T010000
END:STANDARD
BEGIN:DAYLIGHT
TZOFFSETFROM:+0100
TZOFFSETTO:+0200
TZNAME:CEST
DTSTART:20270328T010000
END:DAYLIGHT
BEGIN:STANDARD
TZOFFSETFROM:+0200
TZOFFSETTO:+0100
TZNAME:CET
DTSTART:20271031T010000
END:STANDARD
END:VTIMEZONE
BEGIN:VEVENT
DTSTART;TZID=Europe/Berlin:20260712T093000
DTEND;TZID=Europe/Berlin:20260712T110000
DTSTAMP:20260420T134915
CREATED:20260324T105553Z
LAST-MODIFIED:20260412T133640Z
UID:2662-1783848600-1783854000@raum-der-stille-deggendorf.de
SUMMARY:Balance im Alltag - Nervensystem Reset mit Geraldine Kränzle-Kuprian
DESCRIPTION:Balance im Alltag – Nervensystemreset mit Geraldine Kränzle-Kuprian im Raum der Stille\nSonntag\, den 12.07.2026 von 09:30 bis 11:00 Uhr \nVon Geraldine für Euch: \nIn diesem Mini-Workshop erfährst du\, warum Stress\, Reizüberflutung und ein voller Alltag uns aus dem Gleichgewicht bringen. Mit einfachen Routinen\, sanften Yin-Impulsen\, unterstützenden ätherischen Ölen sowie Tools für akute Stressmomente\, lernst du alltagstaugliche Wege kennen\, um zwischendurch bewusst zu entspannen und wieder mehr Ruhe und Balance in deinen Tag zu bringen. Du erhältst praktische Impulse\, die sich leicht in deinen Alltag integrieren lassen und dich auch in herausfordernden Momenten unterstützen können. \nDieser Workshop ist für alle geeignet\, es gibt keinerlei Einschränkungen und du brauchst keine Vorkenntnisse. \nBitte mitbringen: Yogamatte\, grosses Handtuch oder eine Decke. Trage bequeme Kleidung (angepasst an die Temperaturen). \nEnergieausgleich: 10€ oder mehr (wenn du möchtest). Die Einnahmen werden an das Kinderhospiz „Arche Herzensbrücken“ gespendet (auch hier gilt wieder: wenn Dir dieses Angebot gut tun würde\, Du aber momentan keinen finanziellen Spielraum für derlei Ausgaben für Dich hast: bitte schreib eine Mail an kontakt@raum-der-stille-deggendorf.de. Wir finden gemeinsam eine Lösung 💗) \nAnmeldung direkt bei Geraldine per WhatsApp unter 0175-5870880 oder per Email unter geraldine@oildrops.de \nIch freue ich darauf\, dir Impulse für mehr Ruhe und Balance für dein Nervensystem zeigen zu dürfen!
URL:https://raum-der-stille-deggendorf.de/veranstaltung/balance-im-alltag-mit-geraldine-kraenzle-kuprian-2/
LOCATION:Raum der Stille\, Deggendorf
ORGANIZER;CN="Geraldine Kr%C3%A4nzle-Kuprian":MAILTO:geraldine@oildrops.de
END:VEVENT
END:VCALENDAR