BEGIN:VCALENDAR
VERSION:2.0
PRODID:-//Raum der Stille Deggendorf - ECPv6.15.20//NONSGML v1.0//EN
CALSCALE:GREGORIAN
METHOD:PUBLISH
X-WR-CALNAME:Raum der Stille Deggendorf
X-ORIGINAL-URL:https://raum-der-stille-deggendorf.de
X-WR-CALDESC:Veranstaltungen für Raum der Stille Deggendorf
REFRESH-INTERVAL;VALUE=DURATION:PT1H
X-Robots-Tag:noindex
X-PUBLISHED-TTL:PT1H
BEGIN:VTIMEZONE
TZID:Europe/Berlin
BEGIN:DAYLIGHT
TZOFFSETFROM:+0100
TZOFFSETTO:+0200
TZNAME:CEST
DTSTART:20250330T010000
END:DAYLIGHT
BEGIN:STANDARD
TZOFFSETFROM:+0200
TZOFFSETTO:+0100
TZNAME:CET
DTSTART:20251026T010000
END:STANDARD
BEGIN:DAYLIGHT
TZOFFSETFROM:+0100
TZOFFSETTO:+0200
TZNAME:CEST
DTSTART:20260329T010000
END:DAYLIGHT
BEGIN:STANDARD
TZOFFSETFROM:+0200
TZOFFSETTO:+0100
TZNAME:CET
DTSTART:20261025T010000
END:STANDARD
BEGIN:DAYLIGHT
TZOFFSETFROM:+0100
TZOFFSETTO:+0200
TZNAME:CEST
DTSTART:20270328T010000
END:DAYLIGHT
BEGIN:STANDARD
TZOFFSETFROM:+0200
TZOFFSETTO:+0100
TZNAME:CET
DTSTART:20271031T010000
END:STANDARD
END:VTIMEZONE
BEGIN:VEVENT
DTSTART;TZID=Europe/Berlin:20260508T100000
DTEND;TZID=Europe/Berlin:20260508T110000
DTSTAMP:20260420T033923
CREATED:20260306T185007Z
LAST-MODIFIED:20260309T102005Z
UID:2370-1778234400-1778238000@raum-der-stille-deggendorf.de
SUMMARY:Geführte Meditation mit energetischer Reinigung mit Christina Seimel
DESCRIPTION:Geführte Meditation mit energetischer Reinigung mit Christina Seimel im Raum der Stille am Freitag\, den 08.05.2026 von 10:00 Uhr bis 11:00 Uhr \nVon Christina für Euch:\nWährend einer sanften Reise in dein Inneres kannst du zur Ruhe und Entspannung finden.\nDurch die Verbindung von Meditation und Energiearbeit kann eine sehr tiefgehende Stressreduktion\, bzw. Blockadenlösung erfolgen.\nZugleich können positive Gefühle verankert werden\, so dass du auch im Alltag eine entspanntere Haltung einnehmen kannst. \nBitte direkt bei Christina anmelden\nEs sind keine Vorkenntnisse nötig. Jeder ist herzlich Willkommen.\nTeilnahmegebühr 15\,00 Euro (auch hier gilt wieder: wenn Dir das gut tun würde\, Deine momentane Lebenssituation aber keine zusätzlichen Ausgaben zulässt: bitte Email an Paula schreiben: kontakt@raum-der-stille-deggendorf.de. Wir finden eine Lösung!)\nBitte mitbringen: Matte\, Decke\, Kissen und etwas zu trinken. Komm gerne in bequemer\, dem Wetter angepasster Kleidung.
URL:https://raum-der-stille-deggendorf.de/veranstaltung/meditation-und-energetische-reinigung-mit-christina-seimel/
LOCATION:Raum der Stille\, Deggendorf
ORGANIZER;CN="Christina Seimel":MAILTO:Info@christina-seimel.de
END:VEVENT
BEGIN:VEVENT
DTSTART;TZID=Europe/Berlin:20260512T150000
DTEND;TZID=Europe/Berlin:20260512T180000
DTSTAMP:20260420T033923
CREATED:20260225T091105Z
LAST-MODIFIED:20260225T091105Z
UID:2140-1778598000-1778608800@raum-der-stille-deggendorf.de
SUMMARY:"Über Stock und über Stein" - (ein Angebot für Kinder) - mit Christian Pledl
DESCRIPTION:„Über Stock und über Stein“ am Dienstag\, den 12.05.2026 von 15:00 Uhr bis 18:00 Uhr mit Christina Pledl (Erlebnispädagogin)\nEin Angebot für Kinder von 6 bis 12 Jahren\nHerausforderungen im Team meistern \nLust auf eine kleine Portion Abenteuer? Wie gut schlägst du dich im Team? Lustige Spiele\, knifflige Teamaufgaben und überraschende Hindernisse warten auf dich. Nimmst du die Herausforderung an?\nWeitere Details folgen.
URL:https://raum-der-stille-deggendorf.de/veranstaltung/ueber-stock-und-ueber-stein-ein-angebot-fuer-kinder-mit-christian-pledl/
LOCATION:Raum der Stille\, Deggendorf
ORGANIZER;CN="Christina Pledl":MAILTO:christina.pledl@web.de
END:VEVENT
BEGIN:VEVENT
DTSTART;TZID=Europe/Berlin:20260515T100000
DTEND;TZID=Europe/Berlin:20260515T110000
DTSTAMP:20260420T033923
CREATED:20260306T185158Z
LAST-MODIFIED:20260309T101207Z
UID:2373-1778839200-1778842800@raum-der-stille-deggendorf.de
SUMMARY:Geführte Meditation mit energetischer Reinigung mit Christina Seimel
DESCRIPTION:Geführte Meditation mit energetischer Reinigung mit Christina Seimel im Raum der Stille am Freitag\, den 15.05.2026 von 10:00 Uhr bis 11:00 Uhr \nVon Christina für Euch:\nWährend einer sanften Reise in dein Inneres kannst du zur Ruhe und Entspannung finden.\nDurch die Verbindung von Meditation und Energiearbeit kann eine sehr tiefgehende Stressreduktion\, bzw. Blockadenlösung erfolgen.\nZugleich können positive Gefühle verankert werden\, so dass du auch im Alltag eine entspanntere Haltung einnehmen kannst.Bitte direkt bei Christina anmelden \nEs sind keine Vorkenntnisse nötig. Jeder ist herzlich Willkommen.\nTeilnahmegebühr 15\,00 Euro (auch hier gilt wieder: wenn Dir das gut tun würde\, Deine momentane Lebenssituation aber keine zusätzlichen Ausgaben zulässt: bitte Email an Paula schreiben: kontakt@raum-der-stille-deggendorf.de. Wir finden eine Lösung!)\nBitte mitbringen: Matte\, Decke\, Kissen und etwas zu trinken. Komm gerne in bequemer\, dem Wetter angepasster Kleidung.
URL:https://raum-der-stille-deggendorf.de/veranstaltung/meditation-und-energetische-reinigung-mit-christina-seimel-2/
LOCATION:Raum der Stille\, Deggendorf
ORGANIZER;CN="Christina Seimel":MAILTO:Info@christina-seimel.de
END:VEVENT
BEGIN:VEVENT
DTSTART;TZID=Europe/Berlin:20260516T090000
DTEND;TZID=Europe/Berlin:20260516T120000
DTSTAMP:20260420T033923
CREATED:20260225T092043Z
LAST-MODIFIED:20260225T092043Z
UID:2143-1778922000-1778932800@raum-der-stille-deggendorf.de
SUMMARY:"Jenseits der Komfortzone" - Team- und Persönlichkeitsentwicklung mit Christina Pledl
DESCRIPTION:„Jenseits der Komfortzone“ – Team- und Persönlichkeitsentwicklung mit Christina Pledl am Samstag\, den 16.05.2026 von 9:00 Uhr bis 12:00 Uhr im/am Raum der Stille\nDetails folgen
URL:https://raum-der-stille-deggendorf.de/veranstaltung/jenseits-der-komfortzone-team-und-persoenlichkeitsentwicklung-mit-christina-pledl/
LOCATION:Raum der Stille\, Deggendorf
ORGANIZER;CN="Christina Pledl":MAILTO:christina.pledl@web.de
END:VEVENT
END:VCALENDAR