BEGIN:VCALENDAR
VERSION:2.0
PRODID:-//Raum der Stille Deggendorf - ECPv6.15.20//NONSGML v1.0//EN
CALSCALE:GREGORIAN
METHOD:PUBLISH
X-ORIGINAL-URL:https://raum-der-stille-deggendorf.de
X-WR-CALDESC:Veranstaltungen für Raum der Stille Deggendorf
REFRESH-INTERVAL;VALUE=DURATION:PT1H
X-Robots-Tag:noindex
X-PUBLISHED-TTL:PT1H
BEGIN:VTIMEZONE
TZID:Europe/Berlin
BEGIN:DAYLIGHT
TZOFFSETFROM:+0100
TZOFFSETTO:+0200
TZNAME:CEST
DTSTART:20250330T010000
END:DAYLIGHT
BEGIN:STANDARD
TZOFFSETFROM:+0200
TZOFFSETTO:+0100
TZNAME:CET
DTSTART:20251026T010000
END:STANDARD
BEGIN:DAYLIGHT
TZOFFSETFROM:+0100
TZOFFSETTO:+0200
TZNAME:CEST
DTSTART:20260329T010000
END:DAYLIGHT
BEGIN:STANDARD
TZOFFSETFROM:+0200
TZOFFSETTO:+0100
TZNAME:CET
DTSTART:20261025T010000
END:STANDARD
BEGIN:DAYLIGHT
TZOFFSETFROM:+0100
TZOFFSETTO:+0200
TZNAME:CEST
DTSTART:20270328T010000
END:DAYLIGHT
BEGIN:STANDARD
TZOFFSETFROM:+0200
TZOFFSETTO:+0100
TZNAME:CET
DTSTART:20271031T010000
END:STANDARD
END:VTIMEZONE
BEGIN:VEVENT
DTSTART;TZID=Europe/Berlin:20260705T140000
DTEND;TZID=Europe/Berlin:20260705T170000
DTSTAMP:20260420T080908
CREATED:20260225T093110Z
LAST-MODIFIED:20260225T093110Z
UID:2147-1783260000-1783270800@raum-der-stille-deggendorf.de
SUMMARY:"Waldzeit für Seele & Sinne" mit Christina Pledl
DESCRIPTION:„Waldzeit für Seele & Sinne“ mit Christina Pledl am Sonntag\, den 05.07.2026 von 14:00 Uhr bis 17:00 Uhr\nDetails und Treffpunkt (Hirzau) wird noch bekannt gegeben
URL:https://raum-der-stille-deggendorf.de/veranstaltung/waldzeit-fuer-seele-sinne-mit-christina-pledl/
ORGANIZER;CN="Christina Pledl":MAILTO:christina.pledl@web.de
END:VEVENT
BEGIN:VEVENT
DTSTART;TZID=Europe/Berlin:20260710T100000
DTEND;TZID=Europe/Berlin:20260710T110000
DTSTAMP:20260420T080908
CREATED:20260306T190245Z
LAST-MODIFIED:20260309T100907Z
UID:2387-1783677600-1783681200@raum-der-stille-deggendorf.de
SUMMARY:Geführte Meditation mit energetischer Reinigung mit Christina Seimel
DESCRIPTION:Geführte Meditation mit energetischer Reinigung mit Christina Seimel im Raum der Stille am Freitag\, den 10.07.2026 von 10:00 Uhr bis 11:00 Uhr \nVon Christina für Euch:\nWährend einer sanften Reise in dein Inneres kannst du zur Ruhe und Entspannung finden.\nDurch die Verbindung von Meditation und Energiearbeit kann eine sehr tiefgehende Stressreduktion\, bzw. Blockadenlösung erfolgen.\nZugleich können positive Gefühle verankert werden\, so dass du auch im Alltag eine entspanntere Haltung einnehmen kannst. \nBitte direkt bei Christina anmelden\nEs sind keine Vorkenntnisse nötig. Jeder ist herzlich Willkommen.\nTeilnahmegebühr 15\,00 Euro (auch hier gilt wieder: wenn Dir das gut tun würde\, Deine momentane Lebenssituation aber keine zusätzlichen Ausgaben zulässt: bitte Email an Paula schreiben: kontakt@raum-der-stille-deggendorf.de. Wir finden eine Lösung!)\nBitte mitbringen: Matte\, Decke\, Kissen und etwas zu trinken. Komm gerne in bequemer\, dem Wetter angepasster Kleidung.
URL:https://raum-der-stille-deggendorf.de/veranstaltung/meditation-und-energetische-reinigung-mit-christina-seimel-6/
LOCATION:Raum der Stille\, Deggendorf
ORGANIZER;CN="Christina Seimel":MAILTO:Info@christina-seimel.de
END:VEVENT
BEGIN:VEVENT
DTSTART;TZID=Europe/Berlin:20260724T100000
DTEND;TZID=Europe/Berlin:20260724T110000
DTSTAMP:20260420T080908
CREATED:20260306T190453Z
LAST-MODIFIED:20260309T100818Z
UID:2390-1784887200-1784890800@raum-der-stille-deggendorf.de
SUMMARY:Geführte Meditation mit energetischer Reinigung mit Christina Seimel
DESCRIPTION:Geführte Meditation mit energetischer Reinigung mit Christina Seimel im Raum der Stille am Freitag\, den 24.07.2026 von 10:00 Uhr bis 11:00 Uhr \nVon Christina für Euch:\nWährend einer sanften Reise in dein Inneres kannst du zur Ruhe und Entspannung finden.\nDurch die Verbindung von Meditation und Energiearbeit kann eine sehr tiefgehende Stressreduktion\, bzw. Blockadenlösung erfolgen.\nZugleich können positive Gefühle verankert werden\, so dass du auch im Alltag eine entspanntere Haltung einnehmen kannst. \nBitte direkt bei Christina anmelden\nEs sind keine Vorkenntnisse nötig. Jeder ist herzlich Willkommen.\nTeilnahmegebühr 15\,00 Euro (auch hier gilt wieder: wenn Dir das gut tun würde\, Deine momentane Lebenssituation aber keine zusätzlichen Ausgaben zulässt: bitte Email an Paula schreiben: kontakt@raum-der-stille-deggendorf.de. Wir finden eine Lösung!)\nBitte mitbringen: Matte\, Decke\, Kissen und etwas zu trinken. Komm gerne in bequemer\, dem Wetter angepasster Kleidung.
URL:https://raum-der-stille-deggendorf.de/veranstaltung/meditation-und-energetische-reinigung-mit-christina-seimel-7/
LOCATION:Raum der Stille\, Deggendorf
ORGANIZER;CN="Christina Seimel":MAILTO:Info@christina-seimel.de
END:VEVENT
BEGIN:VEVENT
DTSTART;TZID=Europe/Berlin:20260731T100000
DTEND;TZID=Europe/Berlin:20260731T110000
DTSTAMP:20260420T080908
CREATED:20260306T190708Z
LAST-MODIFIED:20260309T100732Z
UID:2393-1785492000-1785495600@raum-der-stille-deggendorf.de
SUMMARY:Geführte Meditation mit energetischer Reinigung mit Christina Seimel
DESCRIPTION:Geführte Meditation mit energetischer Reinigung mit Christina Seimel im Raum der Stille am Freitag\, den 31.07.2026 von 10:00 Uhr bis 11:00 Uhr \nVon Christina für Euch:\nWährend einer sanften Reise in dein Inneres kannst du zur Ruhe und Entspannung finden.\nDurch die Verbindung von Meditation und Energiearbeit kann eine sehr tiefgehende Stressreduktion\, bzw. Blockadenlösung erfolgen.\nZugleich können positive Gefühle verankert werden\, so dass du auch im Alltag eine entspanntere Haltung einnehmen kannst. \nBitte direkt bei Christina anmelden\nEs sind keine Vorkenntnisse nötig. Jeder ist herzlich Willkommen.\nTeilnahmegebühr 15\,00 Euro (auch hier gilt wieder: wenn Dir das gut tun würde\, Deine momentane Lebenssituation aber keine zusätzlichen Ausgaben zulässt: bitte Email an Paula schreiben: kontakt@raum-der-stille-deggendorf.de. Wir finden eine Lösung!)\nBitte mitbringen: Matte\, Decke\, Kissen und etwas zu trinken. Komm gerne in bequemer\, dem Wetter angepasster Kleidung.
URL:https://raum-der-stille-deggendorf.de/veranstaltung/meditation-und-energetische-reinigung-mit-christina-seimel-8/
LOCATION:Raum der Stille\, Deggendorf
ORGANIZER;CN="Christina Seimel":MAILTO:Info@christina-seimel.de
END:VEVENT
END:VCALENDAR