BEGIN:VCALENDAR
VERSION:2.0
PRODID:-//Raum der Stille Deggendorf - ECPv6.15.20//NONSGML v1.0//EN
CALSCALE:GREGORIAN
METHOD:PUBLISH
X-ORIGINAL-URL:https://raum-der-stille-deggendorf.de
X-WR-CALDESC:Veranstaltungen für Raum der Stille Deggendorf
REFRESH-INTERVAL;VALUE=DURATION:PT1H
X-Robots-Tag:noindex
X-PUBLISHED-TTL:PT1H
BEGIN:VTIMEZONE
TZID:Europe/Berlin
BEGIN:DAYLIGHT
TZOFFSETFROM:+0100
TZOFFSETTO:+0200
TZNAME:CEST
DTSTART:20250330T010000
END:DAYLIGHT
BEGIN:STANDARD
TZOFFSETFROM:+0200
TZOFFSETTO:+0100
TZNAME:CET
DTSTART:20251026T010000
END:STANDARD
BEGIN:DAYLIGHT
TZOFFSETFROM:+0100
TZOFFSETTO:+0200
TZNAME:CEST
DTSTART:20260329T010000
END:DAYLIGHT
BEGIN:STANDARD
TZOFFSETFROM:+0200
TZOFFSETTO:+0100
TZNAME:CET
DTSTART:20261025T010000
END:STANDARD
BEGIN:DAYLIGHT
TZOFFSETFROM:+0100
TZOFFSETTO:+0200
TZNAME:CEST
DTSTART:20270328T010000
END:DAYLIGHT
BEGIN:STANDARD
TZOFFSETFROM:+0200
TZOFFSETTO:+0100
TZNAME:CET
DTSTART:20271031T010000
END:STANDARD
END:VTIMEZONE
BEGIN:VEVENT
DTSTART;TZID=Europe/Berlin:20260423T170000
DTEND;TZID=Europe/Berlin:20260423T193000
DTSTAMP:20260420T015509
CREATED:20260225T093722Z
LAST-MODIFIED:20260330T071926Z
UID:2149-1776963600-1776972600@raum-der-stille-deggendorf.de
SUMMARY:Das ICH im WIR - Einblicke in die Erlebnispädagogik mit Christina Pledl
DESCRIPTION:Das ICH im WIR – Einblicke in die Erlebnispädagogik\nWie kann Erlebnispädagogik mich und mein Team bereichern? mit Christina Pledl\nam Donnerstag\, den 23.04.2026 von 17:00 Uhr bis 19:30 Uhr im/am Raum der Stille \nTauche ein in die Welt der Erlebnispädagogik und lerne dich selbst besser kennen. Wer ist dieses ICH im WIR? Wie funktioniere ich im Team? Welches Potenzial steckt in mir? Wo liegen meine Herausforderungen und Grenzen? Wie geht es mir\, wenn ich meine Komfortzone verlasse? Wie baue ich Erlebnispädagogik in mein (Berufs-)leben ein? In diesem Outdoor-Workshop findest du Antworten auf diese Fragen. Erlebe die unterschiedlichsten Facetten der Erlebnispädagogik und lass dich inspirieren. \nFür wen? \n\nFür alle\, die sich persönlich und/oder beruflich weiterentwickeln möchten\nPädagog*innen\, Erzieher*innen\, Coaches\, Trainer*innen\, Gruppen- und Teamleiter*innen\nAlle\, die Lust haben\, Natur als Lern- und Erfahrungsort zu entdecken\nNeugierige 😊\n\nKeine Vorkenntnisse nötig – Offenheit und Freude am Ausprobieren reichen! \nInhalte: \n\nEinführung in die Erlebnispädagogik\nWarm-Ups und Teamaufgaben\nReflexion & Transfermethoden\nNatur als Lernort erleben\nHerausforderungen bewusst erleben („Challenge by Choice“)\nWahrnehmung\, Achtsamkeit und persönliche Entwicklung\n\nOrganisatorisches:\nDatum: 23.04.2026\nDauer: 2\,5 Stunden (17:00 – 19:30 Uhr)\nTeilnehmende: max. 15 Personen\nOrt: Raum der Stille & Outdoor\nAnmeldung: christina.pledl@web.de oder 0176-35393174\nPreis: 28 €   \nBitte Mitbringen: \n\nBequeme Outdoor-Kleidung (darf schmutzig werden)\nfestes Schuhwerk\nSitzunterlage/Decke für draußen\nTrinkflasche
URL:https://raum-der-stille-deggendorf.de/veranstaltung/erlebnispaedagogik-workshop-mit-christina-pledl/
LOCATION:Raum der Stille\, Deggendorf
ORGANIZER;CN="Christina Pledl":MAILTO:christina.pledl@web.de
END:VEVENT
END:VCALENDAR