BEGIN:VCALENDAR
VERSION:2.0
PRODID:-//Raum der Stille Deggendorf - ECPv6.15.20//NONSGML v1.0//EN
CALSCALE:GREGORIAN
METHOD:PUBLISH
X-ORIGINAL-URL:https://raum-der-stille-deggendorf.de
X-WR-CALDESC:Veranstaltungen für Raum der Stille Deggendorf
REFRESH-INTERVAL;VALUE=DURATION:PT1H
X-Robots-Tag:noindex
X-PUBLISHED-TTL:PT1H
BEGIN:VTIMEZONE
TZID:Europe/Berlin
BEGIN:DAYLIGHT
TZOFFSETFROM:+0100
TZOFFSETTO:+0200
TZNAME:CEST
DTSTART:20250330T010000
END:DAYLIGHT
BEGIN:STANDARD
TZOFFSETFROM:+0200
TZOFFSETTO:+0100
TZNAME:CET
DTSTART:20251026T010000
END:STANDARD
BEGIN:DAYLIGHT
TZOFFSETFROM:+0100
TZOFFSETTO:+0200
TZNAME:CEST
DTSTART:20260329T010000
END:DAYLIGHT
BEGIN:STANDARD
TZOFFSETFROM:+0200
TZOFFSETTO:+0100
TZNAME:CET
DTSTART:20261025T010000
END:STANDARD
BEGIN:DAYLIGHT
TZOFFSETFROM:+0100
TZOFFSETTO:+0200
TZNAME:CEST
DTSTART:20270328T010000
END:DAYLIGHT
BEGIN:STANDARD
TZOFFSETFROM:+0200
TZOFFSETTO:+0100
TZNAME:CET
DTSTART:20271031T010000
END:STANDARD
END:VTIMEZONE
BEGIN:VEVENT
DTSTART;TZID=Europe/Berlin:20260614T150000
DTEND;TZID=Europe/Berlin:20260614T180000
DTSTAMP:20260420T063814
CREATED:20260210T134913Z
LAST-MODIFIED:20260313T175923Z
UID:2060-1781449200-1781460000@raum-der-stille-deggendorf.de
SUMMARY:Heilkreis- Thema: Einsamkeit & Verlustangst mit Johannes Falter
DESCRIPTION:Heilkreis mit Johannes Falter am Sonntag\, den 14.06.2026 von 15:00 Uhr bis 18:00 Uhr im Raum der Stille im Stadthallenpark in Deggendorf\nThema: „Einsamkeit & Verlustangst“ \nVon Johannes für Euch:\nKennst du das Gefühl\, mit deinen inneren Themen alleine zu sein?\nOft genau dann\, wenn wir andere Menschen am meisten brauchen.\n\nIm Heilkreis steigen wir gemeinsam in tiefe Heilarbeit ein – getragen von Gemeinschaft und professioneller Begleitung.\nEin gemeinsamer\, ehrlicher Austausch wirkt heilend für alle Teilnehmer. Wir machen uns diese Kraft der Gemeinschaft zunutze\, um unsere Themen prozessorientiert und tiefgreifend anzugehen.\n\nNeben therapeutischen Gesprächen wird der Heilkreis ergänzt mit tiefenpsychologischen und gestaltorientierten Methoden\, sowie dynamischer Aufstellungsarbeit und Übungen\, die innere Prozesse unterstützen. Diese Herangehensweise ist einzigartig und wenig verbreitet.\n\nJeder Heilkreis ist einzigartig. Jedes Mal bringt dich in deiner ganz persönlichen Reise der Selbsterkenntnis\, persönlichem Wachstum und Selbstverwirklichung weiter. Und mit jedem Mal wächst das Gefühl von Verbundenheit in deinem Herzen.\n\nLass es mir dir ganz direkt sagen: Wenn du ehrlich interessiert bist an persönlichem & spirituellem Wachstum\, dann ist diese Arbeit für dich. Du erhältst Führung und Anleitung.\n\nEs braucht keine Vorkenntnisse. Lediglich die Bereitschaft zur Heilung.\n\nKosten: je Heilkreis 40 €\nFrühbucher bis zu 14 Tage vorher: 35 €\nDich rufen alle 3 Termine? Buchst du alle 3 auf einmal: 100 €. Als Zeichen der Wertschätzung für dein Engagement zur Heilung.\n(Hinweis zur Teilnahmegebühr: Wenn Dir dieses Angebot gut tun würde\, Du aber in Deiner momentanen Lebenssituation keinen Platz für weitere Ausgaben hast: bitte eine Email an kontakt@raum-der-stille-deggendorf.de schreiben. Wir finden gemeinsam eine Lösung)\n\nAnmeldung: Direkt bei Johannes. Über Mail\, Website oder DM. \n\nDu hast Fragen? Dann schreib mir gerne!\nIch freue mich auf dich!
URL:https://raum-der-stille-deggendorf.de/veranstaltung/heilkreis-thema-einsamkeit-verlustangst-mit-johannes-falter/
LOCATION:Raum der Stille\, Deggendorf
ORGANIZER;CN="Johannes Falter":MAILTO:johannes.falter@bewusstseinsentfalter.de
END:VEVENT
END:VCALENDAR