BEGIN:VCALENDAR
VERSION:2.0
PRODID:-//Raum der Stille Deggendorf - ECPv6.15.20//NONSGML v1.0//EN
CALSCALE:GREGORIAN
METHOD:PUBLISH
X-ORIGINAL-URL:https://raum-der-stille-deggendorf.de
X-WR-CALDESC:Veranstaltungen für Raum der Stille Deggendorf
REFRESH-INTERVAL;VALUE=DURATION:PT1H
X-Robots-Tag:noindex
X-PUBLISHED-TTL:PT1H
BEGIN:VTIMEZONE
TZID:Europe/Berlin
BEGIN:DAYLIGHT
TZOFFSETFROM:+0100
TZOFFSETTO:+0200
TZNAME:CEST
DTSTART:20250330T010000
END:DAYLIGHT
BEGIN:STANDARD
TZOFFSETFROM:+0200
TZOFFSETTO:+0100
TZNAME:CET
DTSTART:20251026T010000
END:STANDARD
BEGIN:DAYLIGHT
TZOFFSETFROM:+0100
TZOFFSETTO:+0200
TZNAME:CEST
DTSTART:20260329T010000
END:DAYLIGHT
BEGIN:STANDARD
TZOFFSETFROM:+0200
TZOFFSETTO:+0100
TZNAME:CET
DTSTART:20261025T010000
END:STANDARD
BEGIN:DAYLIGHT
TZOFFSETFROM:+0100
TZOFFSETTO:+0200
TZNAME:CEST
DTSTART:20270328T010000
END:DAYLIGHT
BEGIN:STANDARD
TZOFFSETFROM:+0200
TZOFFSETTO:+0100
TZNAME:CET
DTSTART:20271031T010000
END:STANDARD
END:VTIMEZONE
BEGIN:VEVENT
DTSTART;VALUE=DATE:20260703
DTEND;VALUE=DATE:20260704
DTSTAMP:20260420T015458
CREATED:20260127T094904Z
LAST-MODIFIED:20260127T094904Z
UID:1952-1783036800-1783123199@raum-der-stille-deggendorf.de
SUMMARY:HINWEIS: Konzert an der THD
DESCRIPTION:HINWEIS: Konzert an der THD\nEs kann laut werden im Stadthallenpark
URL:https://raum-der-stille-deggendorf.de/veranstaltung/hinweis-konzert-an-der-thd/
LOCATION:Technische Hochschule Deggendorf\, Deggendorf\, Germany
END:VEVENT
BEGIN:VEVENT
DTSTART;VALUE=DATE:20260710
DTEND;VALUE=DATE:20260711
DTSTAMP:20260420T015458
CREATED:20260306T182126Z
LAST-MODIFIED:20260407T061713Z
UID:2358-1783641600-1783727999@raum-der-stille-deggendorf.de
SUMMARY:HINWEIS: Musik auf der Kulturlichtung
DESCRIPTION:HINWEIS: Veranstaltung auf der Kulturlichtung\nKeine Abendtermine im Raum der Stille möglich \nScreenshot
URL:https://raum-der-stille-deggendorf.de/veranstaltung/hinweis-musik-auf-der-kulturlichtung-10/
LOCATION:Kulturlichtung e. V.
END:VEVENT
BEGIN:VEVENT
DTSTART;VALUE=DATE:20260725
DTEND;VALUE=DATE:20260726
DTSTAMP:20260420T015458
CREATED:20260306T182338Z
LAST-MODIFIED:20260306T182338Z
UID:2360-1784937600-1785023999@raum-der-stille-deggendorf.de
SUMMARY:HINWEIS: Veranstaltung auf der Kulturlichtung
DESCRIPTION:HINWEIS: Veranstaltung auf der Kulturlichtung (Skate-Event)\nKeine Termine im Raum der Stille möglich.
URL:https://raum-der-stille-deggendorf.de/veranstaltung/hinweis-veranstaltung-auf-der-kulturlichtung-4/
LOCATION:Kulturlichtung e. V.
END:VEVENT
BEGIN:VEVENT
DTSTART;VALUE=DATE:20260731
DTEND;VALUE=DATE:20260801
DTSTAMP:20260420T015458
CREATED:20260306T175644Z
LAST-MODIFIED:20260306T175644Z
UID:2342-1785456000-1785542399@raum-der-stille-deggendorf.de
SUMMARY:HINWEIS: Musik auf der Kulturlichtung
DESCRIPTION:HINWEIS: Musik auf der Kulturlichtung\nJeden letzten Freitag im Monat „offene Bühne“
URL:https://raum-der-stille-deggendorf.de/veranstaltung/hinweis-musik-auf-der-kulturlichtung-9/
LOCATION:Kulturlichtung e. V.
END:VEVENT
END:VCALENDAR