BEGIN:VCALENDAR
VERSION:2.0
PRODID:-//Raum der Stille Deggendorf - ECPv6.15.20//NONSGML v1.0//EN
CALSCALE:GREGORIAN
METHOD:PUBLISH
X-ORIGINAL-URL:https://raum-der-stille-deggendorf.de
X-WR-CALDESC:Veranstaltungen für Raum der Stille Deggendorf
REFRESH-INTERVAL;VALUE=DURATION:PT1H
X-Robots-Tag:noindex
X-PUBLISHED-TTL:PT1H
BEGIN:VTIMEZONE
TZID:Europe/Berlin
BEGIN:DAYLIGHT
TZOFFSETFROM:+0100
TZOFFSETTO:+0200
TZNAME:CEST
DTSTART:20250330T010000
END:DAYLIGHT
BEGIN:STANDARD
TZOFFSETFROM:+0200
TZOFFSETTO:+0100
TZNAME:CET
DTSTART:20251026T010000
END:STANDARD
BEGIN:DAYLIGHT
TZOFFSETFROM:+0100
TZOFFSETTO:+0200
TZNAME:CEST
DTSTART:20260329T010000
END:DAYLIGHT
BEGIN:STANDARD
TZOFFSETFROM:+0200
TZOFFSETTO:+0100
TZNAME:CET
DTSTART:20261025T010000
END:STANDARD
BEGIN:DAYLIGHT
TZOFFSETFROM:+0100
TZOFFSETTO:+0200
TZNAME:CEST
DTSTART:20270328T010000
END:DAYLIGHT
BEGIN:STANDARD
TZOFFSETFROM:+0200
TZOFFSETTO:+0100
TZNAME:CET
DTSTART:20271031T010000
END:STANDARD
END:VTIMEZONE
BEGIN:VEVENT
DTSTART;VALUE=DATE:20260801
DTEND;VALUE=DATE:20260802
DTSTAMP:20260420T034113
CREATED:20260126T124852Z
LAST-MODIFIED:20260126T124852Z
UID:1927-1785542400-1785628799@raum-der-stille-deggendorf.de
SUMMARY:HINWEIS: Weisses Dinner Stadthallenpark
DESCRIPTION:Hinweis auf Veranstaltung im Stadthallenpark: Weisses Dinner\nhttps://www.deggendorf.de/kunst-und-kultur/weisses-dinner
URL:https://raum-der-stille-deggendorf.de/veranstaltung/hinweis-weisses-dinner-stadthallenpark/
LOCATION:Stadthallenpark
END:VEVENT
BEGIN:VEVENT
DTSTART;VALUE=DATE:20260808
DTEND;VALUE=DATE:20260809
DTSTAMP:20260420T034113
CREATED:20260306T182644Z
LAST-MODIFIED:20260407T061836Z
UID:2362-1786147200-1786233599@raum-der-stille-deggendorf.de
SUMMARY:HINWEIS: Veranstaltung auf der Kulturlichtung
DESCRIPTION:Hinweis auf Veranstaltung auf der Kulturlichtung.\nKeine Abendtermine im Raum der Stille möglich \nScreenshot
URL:https://raum-der-stille-deggendorf.de/veranstaltung/hinweis-veranstaltung-auf-der-kulturlichtung-5/
LOCATION:Kulturlichtung e. V.
END:VEVENT
BEGIN:VEVENT
DTSTART;VALUE=DATE:20260822
DTEND;VALUE=DATE:20260823
DTSTAMP:20260420T034113
CREATED:20260306T182903Z
LAST-MODIFIED:20260407T061941Z
UID:2364-1787356800-1787443199@raum-der-stille-deggendorf.de
SUMMARY:HINWEIS: Musik auf der Kulturlichtung
DESCRIPTION:HINWEIS auf Veranstaltung auf der Kulturlichtung.\nKeine Abend-Termine im Raum der Stille möglich \nScreenshot
URL:https://raum-der-stille-deggendorf.de/veranstaltung/hinweis-musik-auf-der-kulturlichtung-11/
LOCATION:Kulturlichtung e. V.
END:VEVENT
BEGIN:VEVENT
DTSTART;VALUE=DATE:20260828
DTEND;VALUE=DATE:20260829
DTSTAMP:20260420T034113
CREATED:20260306T180231Z
LAST-MODIFIED:20260306T180231Z
UID:2346-1787875200-1787961599@raum-der-stille-deggendorf.de
SUMMARY:HINWEIS: Veranstaltung auf der Kulturlichtung
DESCRIPTION:HINWEIS: Musik auf der Kulturlichtung\nJeden letzten Freitag im Monat „offene Bühne“
URL:https://raum-der-stille-deggendorf.de/veranstaltung/hinweis-veranstaltung-auf-der-kulturlichtung/
LOCATION:Kulturlichtung e. V.
END:VEVENT
END:VCALENDAR