BEGIN:VCALENDAR
VERSION:2.0
PRODID:-//Raum der Stille Deggendorf - ECPv6.15.20//NONSGML v1.0//EN
CALSCALE:GREGORIAN
METHOD:PUBLISH
X-ORIGINAL-URL:https://raum-der-stille-deggendorf.de
X-WR-CALDESC:Veranstaltungen für Raum der Stille Deggendorf
REFRESH-INTERVAL;VALUE=DURATION:PT1H
X-Robots-Tag:noindex
X-PUBLISHED-TTL:PT1H
BEGIN:VTIMEZONE
TZID:Europe/Berlin
BEGIN:DAYLIGHT
TZOFFSETFROM:+0100
TZOFFSETTO:+0200
TZNAME:CEST
DTSTART:20250330T010000
END:DAYLIGHT
BEGIN:STANDARD
TZOFFSETFROM:+0200
TZOFFSETTO:+0100
TZNAME:CET
DTSTART:20251026T010000
END:STANDARD
BEGIN:DAYLIGHT
TZOFFSETFROM:+0100
TZOFFSETTO:+0200
TZNAME:CEST
DTSTART:20260329T010000
END:DAYLIGHT
BEGIN:STANDARD
TZOFFSETFROM:+0200
TZOFFSETTO:+0100
TZNAME:CET
DTSTART:20261025T010000
END:STANDARD
BEGIN:DAYLIGHT
TZOFFSETFROM:+0100
TZOFFSETTO:+0200
TZNAME:CEST
DTSTART:20270328T010000
END:DAYLIGHT
BEGIN:STANDARD
TZOFFSETFROM:+0200
TZOFFSETTO:+0100
TZNAME:CET
DTSTART:20271031T010000
END:STANDARD
END:VTIMEZONE
BEGIN:VEVENT
DTSTART;VALUE=DATE:20260424
DTEND;VALUE=DATE:20260425
DTSTAMP:20260419T203736
CREATED:20260306T174340Z
LAST-MODIFIED:20260306T174340Z
UID:2334-1776988800-1777075199@raum-der-stille-deggendorf.de
SUMMARY:HINWEIS: Musik auf der Kulturlichtung
DESCRIPTION:HINWEIS: Musik auf der Kulturlichtung\njeden letzten Freitag im Monat „offene Bühne“
URL:https://raum-der-stille-deggendorf.de/veranstaltung/hinweis-musik-auf-der-kulturlichtung-6/
LOCATION:Kulturlichtung e. V.
END:VEVENT
BEGIN:VEVENT
DTSTART;VALUE=DATE:20260424
DTEND;VALUE=DATE:20260504
DTSTAMP:20260419T203736
CREATED:20260126T133111Z
LAST-MODIFIED:20260126T133111Z
UID:1929-1776988800-1777852799@raum-der-stille-deggendorf.de
SUMMARY:HINWEIS: vdk Frühlingsfest auf der Ackerloh
DESCRIPTION:Hinweis auf Veranstaltung in der Nähe (evtl. hört man es bis in den Raum der Stille)\nvdk Frühlingsfest vom 24.04.2026 bis 03.05.2026
URL:https://raum-der-stille-deggendorf.de/veranstaltung/hinweis-vdk-fruehlingsfest-auf-der-ackerloh/
LOCATION:Ackerloh\, Ackerloh\, Deggendorf
END:VEVENT
END:VCALENDAR