BEGIN:VCALENDAR
VERSION:2.0
PRODID:-//Raum der Stille Deggendorf - ECPv6.15.20//NONSGML v1.0//EN
CALSCALE:GREGORIAN
METHOD:PUBLISH
X-ORIGINAL-URL:https://raum-der-stille-deggendorf.de
X-WR-CALDESC:Veranstaltungen für Raum der Stille Deggendorf
REFRESH-INTERVAL;VALUE=DURATION:PT1H
X-Robots-Tag:noindex
X-PUBLISHED-TTL:PT1H
BEGIN:VTIMEZONE
TZID:Europe/Berlin
BEGIN:DAYLIGHT
TZOFFSETFROM:+0100
TZOFFSETTO:+0200
TZNAME:CEST
DTSTART:20250330T010000
END:DAYLIGHT
BEGIN:STANDARD
TZOFFSETFROM:+0200
TZOFFSETTO:+0100
TZNAME:CET
DTSTART:20251026T010000
END:STANDARD
BEGIN:DAYLIGHT
TZOFFSETFROM:+0100
TZOFFSETTO:+0200
TZNAME:CEST
DTSTART:20260329T010000
END:DAYLIGHT
BEGIN:STANDARD
TZOFFSETFROM:+0200
TZOFFSETTO:+0100
TZNAME:CET
DTSTART:20261025T010000
END:STANDARD
BEGIN:DAYLIGHT
TZOFFSETFROM:+0100
TZOFFSETTO:+0200
TZNAME:CEST
DTSTART:20270328T010000
END:DAYLIGHT
BEGIN:STANDARD
TZOFFSETFROM:+0200
TZOFFSETTO:+0100
TZNAME:CET
DTSTART:20271031T010000
END:STANDARD
END:VTIMEZONE
BEGIN:VEVENT
DTSTART;TZID=Europe/Berlin:20260622T180000
DTEND;TZID=Europe/Berlin:20260622T203000
DTSTAMP:20260420T094102
CREATED:20260225T092545Z
LAST-MODIFIED:20260225T092545Z
UID:2145-1782151200-1782160200@raum-der-stille-deggendorf.de
SUMMARY:"Erlebnispädagogik meets interkulturelle Bildung" mit Christina Pledl
DESCRIPTION:„Erlebnispädagogik meets interkulturelle Bildung“ mit Christina Pledl am Montag\, den 22.06.2026 von 18:00 Uhr bis 20:30 Uhr im/am Raum der Stille\nDetails folgen
URL:https://raum-der-stille-deggendorf.de/veranstaltung/erlebnispaedagogik-meets-interkulturelle-bildung-mit-christina-pledl/
LOCATION:Raum der Stille\, Deggendorf
ORGANIZER;CN="Christina Pledl":MAILTO:christina.pledl@web.de
END:VEVENT
END:VCALENDAR