BEGIN:VCALENDAR
VERSION:2.0
PRODID:-//Raum der Stille Deggendorf - ECPv6.15.20//NONSGML v1.0//EN
CALSCALE:GREGORIAN
METHOD:PUBLISH
X-ORIGINAL-URL:https://raum-der-stille-deggendorf.de
X-WR-CALDESC:Veranstaltungen für Raum der Stille Deggendorf
REFRESH-INTERVAL;VALUE=DURATION:PT1H
X-Robots-Tag:noindex
X-PUBLISHED-TTL:PT1H
BEGIN:VTIMEZONE
TZID:Europe/Berlin
BEGIN:DAYLIGHT
TZOFFSETFROM:+0100
TZOFFSETTO:+0200
TZNAME:CEST
DTSTART:20250330T010000
END:DAYLIGHT
BEGIN:STANDARD
TZOFFSETFROM:+0200
TZOFFSETTO:+0100
TZNAME:CET
DTSTART:20251026T010000
END:STANDARD
BEGIN:DAYLIGHT
TZOFFSETFROM:+0100
TZOFFSETTO:+0200
TZNAME:CEST
DTSTART:20260329T010000
END:DAYLIGHT
BEGIN:STANDARD
TZOFFSETFROM:+0200
TZOFFSETTO:+0100
TZNAME:CET
DTSTART:20261025T010000
END:STANDARD
BEGIN:DAYLIGHT
TZOFFSETFROM:+0100
TZOFFSETTO:+0200
TZNAME:CEST
DTSTART:20270328T010000
END:DAYLIGHT
BEGIN:STANDARD
TZOFFSETFROM:+0200
TZOFFSETTO:+0100
TZNAME:CET
DTSTART:20271031T010000
END:STANDARD
END:VTIMEZONE
BEGIN:VEVENT
DTSTART;TZID=Europe/Berlin:20260715T193000
DTEND;TZID=Europe/Berlin:20260715T201000
DTSTAMP:20260420T123449
CREATED:20260228T094339Z
LAST-MODIFIED:20260302T160445Z
UID:2163-1784143800-1784146200@raum-der-stille-deggendorf.de
SUMMARY:Meditation mit Jessica Dik
DESCRIPTION:Meditation mit Jessica Dik\, JAYoga\, am Mittwoch\, den 15.07.2026 um 19:30 Uhr im Raum der Stille. Dauer: 30 – 40 Minuten \nVon Jessi an euch:\nIn dieser Meditation entsteht ein geschützter Raum – fern vom Trubel des Alltags. Sanft geführte Impulse helfen dir\, zur Ruhe zu kommen\, den Atem bewusst wahrzunehmen und Gedanken ziehen zu lassen.\nEs geht nicht darum\, etwas zu erreichen oder „richtig“ zu machen. Vielmehr darfst du einfach sein\, loslassen und neue Klarheit entstehen lassen.\nDiese Zeit schenkt dir innere Ruhe\, frische Energie und ein Gefühl von Verbundenheit mit dir selbst.\nIch freue mich\, diesen Raum mit dir zu teilen ✨ \nAlles\, was du brauchst ist eine Matte\, bequeme Kleidung\, gerne auch ein Sitzkissen und ggf. eine Decke. \nAuf Spendenbasis – Anmeldung direkt bei Jessi \nEs sind keine Vorkenntnisse nötig.\nSpendenbasis (bedeutet: zahl so viel du willst/kannst. Gerne mehr. So lädst du jemanden ein\, der nicht so viel hat).
URL:https://raum-der-stille-deggendorf.de/veranstaltung/meditation-mit-jessica-dik/
LOCATION:Raum der Stille\, Deggendorf
ORGANIZER;CN="Jessica Dik - JAYoga":MAILTO:jayogajessy@gmx.de
END:VEVENT
END:VCALENDAR