BEGIN:VCALENDAR
VERSION:2.0
PRODID:-//Raum der Stille Deggendorf - ECPv6.15.20//NONSGML v1.0//EN
CALSCALE:GREGORIAN
METHOD:PUBLISH
X-WR-CALNAME:Raum der Stille Deggendorf
X-ORIGINAL-URL:https://raum-der-stille-deggendorf.de
X-WR-CALDESC:Veranstaltungen für Raum der Stille Deggendorf
REFRESH-INTERVAL;VALUE=DURATION:PT1H
X-Robots-Tag:noindex
X-PUBLISHED-TTL:PT1H
BEGIN:VTIMEZONE
TZID:Europe/Berlin
BEGIN:DAYLIGHT
TZOFFSETFROM:+0100
TZOFFSETTO:+0200
TZNAME:CEST
DTSTART:20250330T010000
END:DAYLIGHT
BEGIN:STANDARD
TZOFFSETFROM:+0200
TZOFFSETTO:+0100
TZNAME:CET
DTSTART:20251026T010000
END:STANDARD
BEGIN:DAYLIGHT
TZOFFSETFROM:+0100
TZOFFSETTO:+0200
TZNAME:CEST
DTSTART:20260329T010000
END:DAYLIGHT
BEGIN:STANDARD
TZOFFSETFROM:+0200
TZOFFSETTO:+0100
TZNAME:CET
DTSTART:20261025T010000
END:STANDARD
BEGIN:DAYLIGHT
TZOFFSETFROM:+0100
TZOFFSETTO:+0200
TZNAME:CEST
DTSTART:20270328T010000
END:DAYLIGHT
BEGIN:STANDARD
TZOFFSETFROM:+0200
TZOFFSETTO:+0100
TZNAME:CET
DTSTART:20271031T010000
END:STANDARD
END:VTIMEZONE
BEGIN:VEVENT
DTSTART;TZID=Europe/Berlin:20260819T193000
DTEND;TZID=Europe/Berlin:20260819T201000
DTSTAMP:20260420T135554
CREATED:20260228T094801Z
LAST-MODIFIED:20260302T160350Z
UID:2166-1787167800-1787170200@raum-der-stille-deggendorf.de
SUMMARY:Meditation mit Jessica Dik
DESCRIPTION:Meditation mit Jessica Dik\, JAYoga\, am Mittwoch\, den 15.07.2026 um 19:30 Uhr im Raum der Stille. Dauer: 30 – 40 Minuten„Meditation ist der Ort\, an dem du dich selbst findest.“\nVon Jessi an euch:\nIn dieser Meditation entsteht ein geschützter Raum – fern vom Trubel des Alltags. Sanft geführte Impulse helfen dir\, zur Ruhe zu kommen\, den Atem bewusst wahrzunehmen und Gedanken ziehen zu lassen.\nEs geht nicht darum\, etwas zu erreichen oder „richtig“ zu machen. Vielmehr darfst du einfach sein\, loslassen und neue Klarheit entstehen lassen.\nDiese Zeit schenkt dir innere Ruhe\, frische Energie und ein Gefühl von Verbundenheit mit dir selbst.\nIch freue mich\, diesen Raum mit dir zu teilen ✨ \nAlles\, was du brauchst ist eine Matte\, bequeme Kleidung\, gerne auch ein Sitzkissen und ggf. eine Decke. \nAuf Spendenbasis – Anmeldung direkt bei Jessi \nEs sind keine Vorkenntnisse nötig.\nSpendenbasis (bedeutet: zahl so viel du willst/kannst. Gerne mehr. So lädst du jemanden ein\, der nicht so viel hat).
URL:https://raum-der-stille-deggendorf.de/veranstaltung/meditation-mit-jessica-dik-2/
LOCATION:Raum der Stille\, Deggendorf
ORGANIZER;CN="Jessica Dik - JAYoga":MAILTO:jayogajessy@gmx.de
END:VEVENT
BEGIN:VEVENT
DTSTART;TZID=Europe/Berlin:20260823T083000
DTEND;TZID=Europe/Berlin:20260823T093000
DTSTAMP:20260420T135555
CREATED:20260228T094003Z
LAST-MODIFIED:20260302T160714Z
UID:2161-1787473800-1787477400@raum-der-stille-deggendorf.de
SUMMARY:Morgen-Yoga mit Jessica Dik
DESCRIPTION:Morgen-Yoga mit Jessica Dik\, JAYoga\, am Sonntag\, den 23.08.2026 von 8:30 Uhr bis 9:30 Uhr\nAlle Level – keine Vorkenntnisse notwendig \nVon Jessi an euch:\n„Jeder Morgen ist eine Einladung\, neu zu beginnen.“\nBeim Morgenyoga erwartet dich eine belebende Praxis\, die Kraft\, Stabilität und Leichtigkeit miteinander verbindet. Fließende Bewegungen wecken den Körper sanft auf\, aktivierende Elemente schenken neue Energie und ruhige Momente sorgen für Klarheit und Balance. \nDiese Stunde ist eine Einladung\, dir am Morgen bewusst Zeit für dich zu nehmen\, frische Energie zu sammeln und mit einem guten Gefühl in den Tag zu starten. \nVielleicht ist es genau der richtige Moment\, etwas Neues auszuprobieren.\nIch freue mich\, dich auf der Matte zu begrüßen 🤍 \nEnergieausgleich: 10€\nAnmeldung direkt bei Jessi\nAlles\, was du brauchst\, ist deine Matte\, etwas zu trinken – und dich selbst
URL:https://raum-der-stille-deggendorf.de/veranstaltung/morgen-yoga-mit-jessica-dik-4/
LOCATION:Raum der Stille\, Deggendorf
ORGANIZER;CN="Jessica Dik - JAYoga":MAILTO:jayogajessy@gmx.de
END:VEVENT
END:VCALENDAR