BEGIN:VCALENDAR
VERSION:2.0
PRODID:-//Raum der Stille Deggendorf - ECPv6.15.20//NONSGML v1.0//EN
CALSCALE:GREGORIAN
METHOD:PUBLISH
X-ORIGINAL-URL:https://raum-der-stille-deggendorf.de
X-WR-CALDESC:Veranstaltungen für Raum der Stille Deggendorf
REFRESH-INTERVAL;VALUE=DURATION:PT1H
X-Robots-Tag:noindex
X-PUBLISHED-TTL:PT1H
BEGIN:VTIMEZONE
TZID:Europe/Berlin
BEGIN:DAYLIGHT
TZOFFSETFROM:+0100
TZOFFSETTO:+0200
TZNAME:CEST
DTSTART:20250330T010000
END:DAYLIGHT
BEGIN:STANDARD
TZOFFSETFROM:+0200
TZOFFSETTO:+0100
TZNAME:CET
DTSTART:20251026T010000
END:STANDARD
BEGIN:DAYLIGHT
TZOFFSETFROM:+0100
TZOFFSETTO:+0200
TZNAME:CEST
DTSTART:20260329T010000
END:DAYLIGHT
BEGIN:STANDARD
TZOFFSETFROM:+0200
TZOFFSETTO:+0100
TZNAME:CET
DTSTART:20261025T010000
END:STANDARD
BEGIN:DAYLIGHT
TZOFFSETFROM:+0100
TZOFFSETTO:+0200
TZNAME:CEST
DTSTART:20270328T010000
END:DAYLIGHT
BEGIN:STANDARD
TZOFFSETFROM:+0200
TZOFFSETTO:+0100
TZNAME:CET
DTSTART:20271031T010000
END:STANDARD
END:VTIMEZONE
BEGIN:VEVENT
DTSTART;TZID=Europe/Berlin:20260720T180000
DTEND;TZID=Europe/Berlin:20260720T183000
DTSTAMP:20260420T050900
CREATED:20260207T115806Z
LAST-MODIFIED:20260228T154114Z
UID:2029-1784570400-1784572200@raum-der-stille-deggendorf.de
SUMMARY:Atemraum - Reset für dein Nervensystem mit Julia Kerschl
DESCRIPTION:Atemraum – Reset für dein Nervensystem mit Julia Kerschl im Raum der Stille \nVon Julia für Euch:\nManchmal brauchen wir keine 90 Minuten. Manchmal brauchen wir einfach nur einen Atemzug.\nDie Session „Atemraum“ im Raum der Stille ist genau dafür da.\n30 Minuten. Kein Schnickschnack. Kein Leistungsdruck.\nNur du\, dein Atem – und ein bewusstes Reset für dein Nervensystem.\nWir regulieren\, beruhigen\, kommen runter.\nGerade wenn der Alltag laut ist\, darf es hier ganz leise werden. \n\njeden dritten Montag im Monat\nvon April bis Oktober 2026\n18:00 Uhr bis 18:30 Uhr\nohne Anmeldung\nauf Spendenbasis (heißt: zahl so viel du willst/kannst. Gerne mehr. So lädst du jemanden ein\, der nicht so viel hat)\n\nKomm vorbei. Setz dich dazu. Atme mit.\nMehr braucht es manchmal nicht. \nWir freuen uns auf jeden bewussten Atemzug mit dir! \nBitte bring dir deine Matte\, gerne auch ein Sitzkissen und eine Decke mit (je nach Witterung). Zieh dir was bequemes an und bring dir bitte was zu trinken mit.
URL:https://raum-der-stille-deggendorf.de/veranstaltung/atemraum-reset-fuer-dein-nervensystem-mit-julia-kerschl-5/
LOCATION:Raum der Stille\, Deggendorf
ORGANIZER;CN="Julia Kerschl":MAILTO:info@ashtanga-yoga-julia.de
END:VEVENT
BEGIN:VEVENT
DTSTART;TZID=Europe/Berlin:20260804T180000
DTEND;TZID=Europe/Berlin:20260804T193000
DTSTAMP:20260420T050900
CREATED:20260207T104736Z
LAST-MODIFIED:20260228T102243Z
UID:1985-1785866400-1785871800@raum-der-stille-deggendorf.de
SUMMARY:Ashtanga Yoga für Fortgeschrittene mit Julia Kerschl
DESCRIPTION:Ashtanga Yoga mit Julia Kerschl \nVon Julia für Euch:\nAshtanga Yoga ist für mich wie nach Hause kommen. Klar. Ehrlich. Kraftvoll. \nIm Raum der Stille tauchen wir gemeinsam in die traditionelle Praxis ein – mit Atem\, Fokus\, und dieser besonderen Energie die entsteht\, wenn alle im gleichen Rhythmus fließen.\n– jeden ersten Dienstag im Monat\n– von April bis Oktober 2026\n– Traditionell mit Vorkenntnissen\n– 18 Euro pro Stunde / 110 Euro komplett für 7 Yogaeinheiten \nDiese 90 Minuten sind kein Workout. Sie sind eine Begegnung mit dir selbst. Mit deiner Disziplin. Deiner Kraft. Deiner Ruhe. \nWenn du deine Praxis vertiefen und spüren möchtest\, wie eine bewegte Meditation ganz automatisch entstehen kann und das in einem geschützten Rahmen\, dann bist du hier genau richtig. \nSpeichere dir diese Termine gerne ab und melde dich bei Julia direkt an.\nWir freuen uns riesig auf jede Matte\, die sich ausrollt. \nBitte Matte mitbringen und geeigneter Kleidung kommen. Bitte nimm dir etwas zu trinken mit und in den Sommermonaten ist es sinnvoll Mückenschutz dabei zu haben.\nWir freuen uns auf Dich.
URL:https://raum-der-stille-deggendorf.de/veranstaltung/ashtanga-yoga-fuer-fortgeschrittene-mit-julia-kerschl-copy-6/
LOCATION:Raum der Stille\, Deggendorf
ORGANIZER;CN="Julia Kerschl":MAILTO:info@ashtanga-yoga-julia.de
END:VEVENT
BEGIN:VEVENT
DTSTART;TZID=Europe/Berlin:20260806T180000
DTEND;TZID=Europe/Berlin:20260806T190000
DTSTAMP:20260420T050900
CREATED:20260207T114029Z
LAST-MODIFIED:20260228T155908Z
UID:2012-1786039200-1786042800@raum-der-stille-deggendorf.de
SUMMARY:Yoga für Alle - für einen gesunden und starken Rücken mit Julia Kerschl
DESCRIPTION:Yoga für Alle – für einen gesunden und starken Rücken mit Julia Kerschl \nVon Julia für Euch:\nDein Rücken trägt dich jeden Tag. Zeit\, ihm etwas zurückzugeben. \nIn dieser Yogastunde darf es ganz unkompliziert sein – ohne Vorkenntnisse\, ohne Leistungsdruck.\nEinfach Bewegung\, die gut tut.\nEinmal im Monat nehmen wir uns 60 Minuten Zeit für einen gesunden und starken Rücken.\nWir mobilisieren\, kräftigen\, atmen – und schaffen Raum im Körper wie im Kopf. \nEgal ob du viel sitzt\, körperlich arbeitest oder dir einfach mehr Stabilität wünschst: Du bist herzlich willkommen. Wirklich! \n\njeden ersten Donnerstag im Monat\nvon April bis Oktober 2026\n18:00 Uhr bis 19:00 Uhr\n14 Euro je Yogastunde / 85 Euro für alle 7 Yogastunden\n\nBitte melde dich gerne bei Julia direkt an. Wir freuen uns auf dich und deine Matte.\nBitte bring dir deine Matte\, etwas zu trinken und auch gerne eine Decke mit.
URL:https://raum-der-stille-deggendorf.de/veranstaltung/yoga-fuer-alle-fuer-einen-gesunden-und-starken-ruecken-mit-julia-kerschl-3/
LOCATION:Raum der Stille\, Deggendorf
ORGANIZER;CN="Julia Kerschl":MAILTO:info@ashtanga-yoga-julia.de
END:VEVENT
BEGIN:VEVENT
DTSTART;TZID=Europe/Berlin:20260817T180000
DTEND;TZID=Europe/Berlin:20260817T183000
DTSTAMP:20260420T050900
CREATED:20260207T115940Z
LAST-MODIFIED:20260228T154016Z
UID:2032-1786989600-1786991400@raum-der-stille-deggendorf.de
SUMMARY:Atemraum - Reset für dein Nervensystem mit Julia Kerschl
DESCRIPTION:Atemraum – Reset für dein Nervensystem mit Julia Kerschl im Raum der Stille \nVon Julia für Euch:\nManchmal brauchen wir keine 90 Minuten. Manchmal brauchen wir einfach nur einen Atemzug.\nDie Session „Atemraum“ im Raum der Stille ist genau dafür da.\n30 Minuten. Kein Schnickschnack. Kein Leistungsdruck.\nNur du\, dein Atem – und ein bewusstes Reset für dein Nervensystem.\nWir regulieren\, beruhigen\, kommen runter.\nGerade wenn der Alltag laut ist\, darf es hier ganz leise werden. \n\njeden dritten Montag im Monat\nvon April bis Oktober 2026\n18:00 Uhr bis 18:30 Uhr\nohne Anmeldung\nauf Spendenbasis (heißt: zahl so viel du willst/kannst. Gerne mehr. So lädst du jemanden ein\, der nicht so viel hat)\n\nKomm vorbei. Setz dich dazu. Atme mit.\nMehr braucht es manchmal nicht. \nWir freuen uns auf jeden bewussten Atemzug mit dir! \nBitte bring dir deine Matte\, gerne auch ein Sitzkissen und eine Decke mit (je nach Witterung). Zieh dir was bequemes an und bring dir bitte was zu trinken mit.
URL:https://raum-der-stille-deggendorf.de/veranstaltung/atemraum-reset-fuer-dein-nervensystem-mit-julia-kerschl-4/
LOCATION:Raum der Stille\, Deggendorf
ORGANIZER;CN="Julia Kerschl":MAILTO:info@ashtanga-yoga-julia.de
END:VEVENT
BEGIN:VEVENT
DTSTART;TZID=Europe/Berlin:20260901T180000
DTEND;TZID=Europe/Berlin:20260901T193000
DTSTAMP:20260420T050900
CREATED:20260207T111008Z
LAST-MODIFIED:20260228T102059Z
UID:1997-1788285600-1788291000@raum-der-stille-deggendorf.de
SUMMARY:Ashtanga Yoga für Fortgeschrittene mit Julia Kerschl
DESCRIPTION:Ashtanga Yoga mit Julia Kerschl \nVon Julia für Euch:\nAshtanga Yoga ist für mich wie nach Hause kommen. Klar. Ehrlich. Kraftvoll. \nIm Raum der Stille tauchen wir gemeinsam in die traditionelle Praxis ein – mit Atem\, Fokus\, und dieser besonderen Energie die entsteht\, wenn alle im gleichen Rhythmus fließen.\n– jeden ersten Dienstag im Monat\n– von April bis Oktober 2026\n– Traditionell mit Vorkenntnissen\n– 18 Euro pro Stunde / 110 Euro komplett für 7 Yogaeinheiten \nDiese 90 Minuten sind kein Workout. Sie sind eine Begegnung mit dir selbst. Mit deiner Disziplin. Deiner Kraft. Deiner Ruhe. \nWenn du deine Praxis vertiefen und spüren möchtest\, wie eine bewegte Meditation ganz automatisch entstehen kann und das in einem geschützten Rahmen\, dann bist du hier genau richtig. \nSpeichere dir diese Termine gerne ab und melde dich bei Julia direkt an.\nWir freuen uns riesig auf jede Matte\, die sich ausrollt. \nBitte Matte mitbringen und geeigneter Kleidung kommen. Bitte nimm dir etwas zu trinken mit und in den Sommermonaten ist es sinnvoll Mückenschutz dabei zu haben.\nWir freuen uns auf Dich.
URL:https://raum-der-stille-deggendorf.de/veranstaltung/ashtanga-yoga-fuer-fortgeschrittene-mit-julia-kerschl-4/
LOCATION:Raum der Stille\, Deggendorf
ORGANIZER;CN="Julia Kerschl":MAILTO:info@ashtanga-yoga-julia.de
END:VEVENT
BEGIN:VEVENT
DTSTART;TZID=Europe/Berlin:20260903T180000
DTEND;TZID=Europe/Berlin:20260903T190000
DTSTAMP:20260420T050900
CREATED:20260207T114159Z
LAST-MODIFIED:20260228T155724Z
UID:2015-1788458400-1788462000@raum-der-stille-deggendorf.de
SUMMARY:Yoga für Alle - für einen gesunden und starken Rücken mit Julia Kerschl
DESCRIPTION:Yoga für Alle – für einen gesunden und starken Rücken mit Julia Kerschl \nVon Julia für Euch:\nDein Rücken trägt dich jeden Tag. Zeit\, ihm etwas zurückzugeben. \nIn dieser Yogastunde darf es ganz unkompliziert sein – ohne Vorkenntnisse\, ohne Leistungsdruck.\nEinfach Bewegung\, die gut tut.\nEinmal im Monat nehmen wir uns 60 Minuten Zeit für einen gesunden und starken Rücken.\nWir mobilisieren\, kräftigen\, atmen – und schaffen Raum im Körper wie im Kopf. \nEgal ob du viel sitzt\, körperlich arbeitest oder dir einfach mehr Stabilität wünschst: Du bist herzlich willkommen. Wirklich! \n\njeden ersten Donnerstag im Monat\nvon April bis Oktober 2026\n18:00 Uhr bis 19:00 Uhr\n14 Euro je Yogastunde / 85 Euro für alle 7 Yogastunden\n\nBitte melde dich gerne bei Julia direkt an. Wir freuen uns auf dich und deine Matte.\nBitte bring dir deine Matte\, etwas zu trinken und auch gerne eine Decke mit.
URL:https://raum-der-stille-deggendorf.de/veranstaltung/yoga-fuer-alle-fuer-einen-gesunden-und-starken-ruecken-mit-julia-kerschl-2/
LOCATION:Raum der Stille\, Deggendorf
ORGANIZER;CN="Julia Kerschl":MAILTO:info@ashtanga-yoga-julia.de
END:VEVENT
BEGIN:VEVENT
DTSTART;TZID=Europe/Berlin:20260921T180000
DTEND;TZID=Europe/Berlin:20260921T183000
DTSTAMP:20260420T050900
CREATED:20260207T120126Z
LAST-MODIFIED:20260228T153924Z
UID:2035-1790013600-1790015400@raum-der-stille-deggendorf.de
SUMMARY:Atemraum - Reset für dein Nervensystem mit Julia Kerschl
DESCRIPTION:Atemraum – Reset für dein Nervensystem mit Julia Kerschl im Raum der Stille \nVon Julia für Euch:\nManchmal brauchen wir keine 90 Minuten. Manchmal brauchen wir einfach nur einen Atemzug.\nDie Session „Atemraum“ im Raum der Stille ist genau dafür da.\n30 Minuten. Kein Schnickschnack. Kein Leistungsdruck.\nNur du\, dein Atem – und ein bewusstes Reset für dein Nervensystem.\nWir regulieren\, beruhigen\, kommen runter.\nGerade wenn der Alltag laut ist\, darf es hier ganz leise werden. \n\njeden dritten Montag im Monat\nvon April bis Oktober 2026\n18:00 Uhr bis 18:30 Uhr\nohne Anmeldung\nauf Spendenbasis (heißt: zahl so viel du willst/kannst. Gerne mehr. So lädst du jemanden ein\, der nicht so viel hat)\n\nKomm vorbei. Setz dich dazu. Atme mit.\nMehr braucht es manchmal nicht. \nWir freuen uns auf jeden bewussten Atemzug mit dir! \nBitte bring dir deine Matte\, gerne auch ein Sitzkissen und eine Decke mit (je nach Witterung). Zieh dir was bequemes an und bring dir bitte was zu trinken mit.
URL:https://raum-der-stille-deggendorf.de/veranstaltung/atemraum-reset-fuer-dein-nervensystem-mit-julia-kerschl-2/
LOCATION:Raum der Stille\, Deggendorf
ORGANIZER;CN="Julia Kerschl":MAILTO:info@ashtanga-yoga-julia.de
END:VEVENT
BEGIN:VEVENT
DTSTART;TZID=Europe/Berlin:20261001T180000
DTEND;TZID=Europe/Berlin:20261001T190000
DTSTAMP:20260420T050900
CREATED:20260207T114416Z
LAST-MODIFIED:20260228T155518Z
UID:2018-1790877600-1790881200@raum-der-stille-deggendorf.de
SUMMARY:Yoga für Alle - für einen gesunden und starken Rücken mit Julia Kerschl
DESCRIPTION:Yoga für Alle – für einen gesunden und starken Rücken mit Julia Kerschl \nVon Julia für Euch:\nDein Rücken trägt dich jeden Tag. Zeit\, ihm etwas zurückzugeben. \nIn dieser Yogastunde darf es ganz unkompliziert sein – ohne Vorkenntnisse\, ohne Leistungsdruck.\nEinfach Bewegung\, die gut tut.\nEinmal im Monat nehmen wir uns 60 Minuten Zeit für einen gesunden und starken Rücken.\nWir mobilisieren\, kräftigen\, atmen – und schaffen Raum im Körper wie im Kopf. \nEgal ob du viel sitzt\, körperlich arbeitest oder dir einfach mehr Stabilität wünschst: Du bist herzlich willkommen. Wirklich! \n\njeden ersten Donnerstag im Monat\nvon April bis Oktober 2026\n18:00 Uhr bis 19:00 Uhr\n14 Euro je Yogastunde / 85 Euro für alle 7 Yogastunden\n\nBitte melde dich gerne bei Julia direkt an. Wir freuen uns auf dich und deine Matte.\nBitte bring dir deine Matte\, etwas zu trinken und auch gerne eine Decke mit.
URL:https://raum-der-stille-deggendorf.de/veranstaltung/yoga-fuer-alle-fuer-einen-gesunden-und-starken-ruecken-mit-julia-kerschl/
LOCATION:Raum der Stille\, Deggendorf
ORGANIZER;CN="Julia Kerschl":MAILTO:info@ashtanga-yoga-julia.de
END:VEVENT
BEGIN:VEVENT
DTSTART;TZID=Europe/Berlin:20261006T180000
DTEND;TZID=Europe/Berlin:20261006T193000
DTSTAMP:20260420T050900
CREATED:20260207T111205Z
LAST-MODIFIED:20260228T101905Z
UID:1999-1791309600-1791315000@raum-der-stille-deggendorf.de
SUMMARY:Ashtanga Yoga für Fortgeschrittene mit Julia Kerschl
DESCRIPTION:Ashtanga Yoga mit Julia Kerschl \nVon Julia für Euch:\nAshtanga Yoga ist für mich wie nach Hause kommen. Klar. Ehrlich. Kraftvoll. \nIm Raum der Stille tauchen wir gemeinsam in die traditionelle Praxis ein – mit Atem\, Fokus\, und dieser besonderen Energie die entsteht\, wenn alle im gleichen Rhythmus fließen.\n– jeden ersten Dienstag im Monat\n– von April bis Oktober 2026\n– Traditionell mit Vorkenntnissen\n– 18 Euro pro Stunde / 110 Euro komplett für 7 Yogaeinheiten \nDiese 90 Minuten sind kein Workout. Sie sind eine Begegnung mit dir selbst. Mit deiner Disziplin. Deiner Kraft. Deiner Ruhe. \nWenn du deine Praxis vertiefen und spüren möchtest\, wie eine bewegte Meditation ganz automatisch entstehen kann und das in einem geschützten Rahmen\, dann bist du hier genau richtig. \nSpeichere dir diese Termine gerne ab und melde dich bei Julia direkt an.\nWir freuen uns riesig auf jede Matte\, die sich ausrollt. \nBitte Matte mitbringen und geeigneter Kleidung kommen. Bitte nimm dir etwas zu trinken mit und in den Sommermonaten ist es sinnvoll Mückenschutz dabei zu haben.\nWir freuen uns auf Dich.
URL:https://raum-der-stille-deggendorf.de/veranstaltung/ashtanga-yoga-fuer-fortgeschrittene-mit-julia-kerschl-5/
LOCATION:Raum der Stille\, Deggendorf
ORGANIZER;CN="Julia Kerschl":MAILTO:info@ashtanga-yoga-julia.de
END:VEVENT
BEGIN:VEVENT
DTSTART;TZID=Europe/Berlin:20261019T180000
DTEND;TZID=Europe/Berlin:20261019T183000
DTSTAMP:20260420T050900
CREATED:20260207T120255Z
LAST-MODIFIED:20260228T153823Z
UID:2038-1792432800-1792434600@raum-der-stille-deggendorf.de
SUMMARY:Atemraum - Reset für dein Nervensystem mit Julia Kerschl
DESCRIPTION:Atemraum – Reset für dein Nervensystem mit Julia Kerschl im Raum der Stille \nVon Julia für Euch:\nManchmal brauchen wir keine 90 Minuten. Manchmal brauchen wir einfach nur einen Atemzug.\nDie Session „Atemraum“ im Raum der Stille ist genau dafür da.\n30 Minuten. Kein Schnickschnack. Kein Leistungsdruck.\nNur du\, dein Atem – und ein bewusstes Reset für dein Nervensystem.\nWir regulieren\, beruhigen\, kommen runter.\nGerade wenn der Alltag laut ist\, darf es hier ganz leise werden. \n\njeden dritten Montag im Monat\nvon April bis Oktober 2026\n18:00 Uhr bis 18:30 Uhr\nohne Anmeldung\nauf Spendenbasis (heißt: zahl so viel du willst/kannst. Gerne mehr. So lädst du jemanden ein\, der nicht so viel hat)\n\nKomm vorbei. Setz dich dazu. Atme mit.\nMehr braucht es manchmal nicht. \nWir freuen uns auf jeden bewussten Atemzug mit dir! \nBitte bring dir deine Matte\, gerne auch ein Sitzkissen und eine Decke mit (je nach Witterung). Zieh dir was bequemes an und bring dir bitte was zu trinken mit. \n \n 
URL:https://raum-der-stille-deggendorf.de/veranstaltung/atemraum-reset-fuer-dein-nervensystem-mit-julia-kerschl-3/
LOCATION:Raum der Stille\, Deggendorf
ORGANIZER;CN="Julia Kerschl":MAILTO:info@ashtanga-yoga-julia.de
END:VEVENT
END:VCALENDAR