BEGIN:VCALENDAR
VERSION:2.0
PRODID:-//Raum der Stille Deggendorf - ECPv6.15.20//NONSGML v1.0//EN
CALSCALE:GREGORIAN
METHOD:PUBLISH
X-ORIGINAL-URL:https://raum-der-stille-deggendorf.de
X-WR-CALDESC:Veranstaltungen für Raum der Stille Deggendorf
REFRESH-INTERVAL;VALUE=DURATION:PT1H
X-Robots-Tag:noindex
X-PUBLISHED-TTL:PT1H
BEGIN:VTIMEZONE
TZID:Europe/Berlin
BEGIN:DAYLIGHT
TZOFFSETFROM:+0100
TZOFFSETTO:+0200
TZNAME:CEST
DTSTART:20250330T010000
END:DAYLIGHT
BEGIN:STANDARD
TZOFFSETFROM:+0200
TZOFFSETTO:+0100
TZNAME:CET
DTSTART:20251026T010000
END:STANDARD
BEGIN:DAYLIGHT
TZOFFSETFROM:+0100
TZOFFSETTO:+0200
TZNAME:CEST
DTSTART:20260329T010000
END:DAYLIGHT
BEGIN:STANDARD
TZOFFSETFROM:+0200
TZOFFSETTO:+0100
TZNAME:CET
DTSTART:20261025T010000
END:STANDARD
BEGIN:DAYLIGHT
TZOFFSETFROM:+0100
TZOFFSETTO:+0200
TZNAME:CEST
DTSTART:20270328T010000
END:DAYLIGHT
BEGIN:STANDARD
TZOFFSETFROM:+0200
TZOFFSETTO:+0100
TZNAME:CET
DTSTART:20271031T010000
END:STANDARD
END:VTIMEZONE
BEGIN:VEVENT
DTSTART;TZID=Europe/Berlin:20260514T170000
DTEND;TZID=Europe/Berlin:20260514T193000
DTSTAMP:20260420T081635
CREATED:20260319T153954Z
LAST-MODIFIED:20260320T185025Z
UID:2569-1778778000-1778787000@raum-der-stille-deggendorf.de
SUMMARY:Seelenzeit - Cacao - Kakaozeremonie mit Steffi Koller
DESCRIPTION:🌺 Seelenzeit – Cacao | für alle\, die spüren: da geht noch mehr! 🌺 \nWenn du willst\, dass in deinem Leben alles so bleibt\, wie es ist…\ndann ist diese Kakaozeremonie nichts für dich.\nGanz ehrlich.\nDiese Abende sind für Menschen\, die merken: \n🦋 so wie es gerade läuft\, fühlt es sich nicht richtig an \n🦋 da ist mehr – aber sie kommen nicht richtig ran \n🦋 dieser Druck\, dieser Kloß im Hals darf endlich gehen \nDie Basis ist eine echte\, zeremonielle Kakaozeremonie\, mit der wir den Weg zurück zu dir selbst sanft öffnen. \nEs ist ein schöner Abend.\nAber eben nicht nur.\nEs ist ein erster Schritt.\nIn deine Veränderung. \nIch arbeite bewusst in kleinen Gruppen\, damit Raum für dich entstehen kann. \nTermine Deggendorf: 📍 14. Mai\, 📍 24. Mai und 📍 11. Oktober\n🕔 Beginn: 17:00 Uhr\n⏳ Dauer: ca. 2\,5 Stunden\n💰 69 € inkl. zeremoniellem Cacao & Tee (auch hier gilt: wenn Dir dieses Angebot gut tun würde\, Du aber momentan keinen finanziellen Spielraum für Dich selber hast: bitte schreib eine Mail an kontakt@raum-der-stille-deggendorf.de. Wir finden gemeinsam eine Lösung 💗) \n❗️ Begrenzte Teilnehmerzahl\n❗️ Kein Platz ohne Voranmeldung \nWenn du bereit bist\, dir selbst wieder näher zu kommen\, dann melde dich direkt bei mir. \nSteffi 🦋
URL:https://raum-der-stille-deggendorf.de/veranstaltung/kakaozeremonie-mit-steffi-koller-2/
LOCATION:Raum der Stille\, Deggendorf
ORGANIZER;CN="Steffi Koller":MAILTO:seelenzeit@herzlieb-trauung.de
END:VEVENT
BEGIN:VEVENT
DTSTART;TZID=Europe/Berlin:20260524T170000
DTEND;TZID=Europe/Berlin:20260524T193000
DTSTAMP:20260420T081635
CREATED:20260319T154053Z
LAST-MODIFIED:20260320T185428Z
UID:2571-1779642000-1779651000@raum-der-stille-deggendorf.de
SUMMARY:Seelenzeit - Cacao - Kakaozeremonie mit Steffi Koller
DESCRIPTION:🌺 Seelenzeit – Cacao | für alle\, die spüren: da geht noch mehr! 🌺 \nWenn du willst\, dass in deinem Leben alles so bleibt\, wie es ist…\ndann ist diese Kakaozeremonie nichts für dich.\nGanz ehrlich.\nDiese Abende sind für Menschen\, die merken: \n🦋 so wie es gerade läuft\, fühlt es sich nicht richtig an \n🦋 da ist mehr – aber sie kommen nicht richtig ran \n🦋 dieser Druck\, dieser Kloß im Hals darf endlich gehen \nDie Basis ist eine echte\, zeremonielle Kakaozeremonie\, mit der wir den Weg zurück zu dir selbst sanft öffnen. \nEs ist ein schöner Abend.\nAber eben nicht nur.\nEs ist ein erster Schritt.\nIn deine Veränderung. \nIch arbeite bewusst in kleinen Gruppen\, damit Raum für dich entstehen kann. \nTermine Deggendorf: 📍 14. Mai\, 📍 24. Mai und 📍 11. Oktober\n🕔 Beginn: 17:00 Uhr\n⏳ Dauer: ca. 2\,5 Stunden\n💰 69 € inkl. zeremoniellem Cacao & Tee (auch hier gilt: wenn Dir dieses Angebot gut tun würde\, Du aber momentan keinen finanziellen Spielraum für Dich selber hast: bitte schreib eine Mail an kontakt@raum-der-stille-deggendorf.de. Wir finden gemeinsam eine Lösung 💗) \n❗️ Begrenzte Teilnehmerzahl\n❗️ Kein Platz ohne Voranmeldung \nWenn du bereit bist\, dir selbst wieder näher zu kommen\, dann melde dich direkt bei mir. \nSteffi 🦋
URL:https://raum-der-stille-deggendorf.de/veranstaltung/kakaozeremonie-mit-steffi-koller-3/
LOCATION:Raum der Stille\, Deggendorf
ORGANIZER;CN="Steffi Koller":MAILTO:seelenzeit@herzlieb-trauung.de
END:VEVENT
END:VCALENDAR