BEGIN:VCALENDAR
VERSION:2.0
PRODID:-//Raum der Stille Deggendorf - ECPv6.15.20//NONSGML v1.0//EN
CALSCALE:GREGORIAN
METHOD:PUBLISH
X-ORIGINAL-URL:https://raum-der-stille-deggendorf.de
X-WR-CALDESC:Veranstaltungen für Raum der Stille Deggendorf
REFRESH-INTERVAL;VALUE=DURATION:PT1H
X-Robots-Tag:noindex
X-PUBLISHED-TTL:PT1H
BEGIN:VTIMEZONE
TZID:Europe/Berlin
BEGIN:DAYLIGHT
TZOFFSETFROM:+0100
TZOFFSETTO:+0200
TZNAME:CEST
DTSTART:20250330T010000
END:DAYLIGHT
BEGIN:STANDARD
TZOFFSETFROM:+0200
TZOFFSETTO:+0100
TZNAME:CET
DTSTART:20251026T010000
END:STANDARD
BEGIN:DAYLIGHT
TZOFFSETFROM:+0100
TZOFFSETTO:+0200
TZNAME:CEST
DTSTART:20260329T010000
END:DAYLIGHT
BEGIN:STANDARD
TZOFFSETFROM:+0200
TZOFFSETTO:+0100
TZNAME:CET
DTSTART:20261025T010000
END:STANDARD
BEGIN:DAYLIGHT
TZOFFSETFROM:+0100
TZOFFSETTO:+0200
TZNAME:CEST
DTSTART:20270328T010000
END:DAYLIGHT
BEGIN:STANDARD
TZOFFSETFROM:+0200
TZOFFSETTO:+0100
TZNAME:CET
DTSTART:20271031T010000
END:STANDARD
END:VTIMEZONE
BEGIN:VEVENT
DTSTART;TZID=Europe/Berlin:20260929T180000
DTEND;TZID=Europe/Berlin:20260929T190000
DTSTAMP:20260420T160926
CREATED:20260223T084721Z
LAST-MODIFIED:20260320T175243Z
UID:2124-1790704800-1790708400@raum-der-stille-deggendorf.de
SUMMARY:Kakaozeremonie mit Sarah Knittl
DESCRIPTION:Dienstag\, den 29.09.2026 von 18:00 Uhr bis 19:00 Uhr\nKakaozeremonie mit Sarah Knittl \nVon Sarah für Dich:\nDiese Kakaozeremonie ist meine persönliche Einladung\, zurück zu dir selbst und zu deinem Urvertrauen zu finden. \nIn einem achtsamen Raum darfst du dich selber wieder spüren\, dich erden und so sein wie du bist. Der zeremonielle Kakao begleitet dich dabei\, dein Wurzelchakra zu stärken und innerlich zur Ruhe zu kommen. Durch Meditation\, bewusste Atmung und sanfte Impulse stärken wir in der Gemeinschaft das Gefühl von Getragen sein\, Erdung und Vertrauen ins Leben. \nBitte bring deine eigene Tasse\, Yogamatte\, Decke und Kissen mit. \nEnergieausgleich: 25 € (auch hier gilt wieder: wenn dir dieses Angebot gut tun würde\, deine momentane Lebenssituation aber keine weiteren Ausgaben zulässt: bitte mail an kontakt@raum-der-stille-deggendorf.de schreiben. Wir finden eine Lösung ❤️) \nAchtung: begrenzte Teilnehmerzahl für eine verbindende und achtsame Atmosphäre! \nAnmeldung bitte direkt bei Sarah
URL:https://raum-der-stille-deggendorf.de/veranstaltung/kakaozeremonie-mit-sarah-knittl/
LOCATION:Raum der Stille\, Deggendorf
END:VEVENT
END:VCALENDAR