BEGIN:VCALENDAR
VERSION:2.0
PRODID:-//Raum der Stille Deggendorf - ECPv6.15.20//NONSGML v1.0//EN
CALSCALE:GREGORIAN
METHOD:PUBLISH
X-ORIGINAL-URL:https://raum-der-stille-deggendorf.de
X-WR-CALDESC:Veranstaltungen für Raum der Stille Deggendorf
REFRESH-INTERVAL;VALUE=DURATION:PT1H
X-Robots-Tag:noindex
X-PUBLISHED-TTL:PT1H
BEGIN:VTIMEZONE
TZID:Europe/Berlin
BEGIN:DAYLIGHT
TZOFFSETFROM:+0100
TZOFFSETTO:+0200
TZNAME:CEST
DTSTART:20250330T010000
END:DAYLIGHT
BEGIN:STANDARD
TZOFFSETFROM:+0200
TZOFFSETTO:+0100
TZNAME:CET
DTSTART:20251026T010000
END:STANDARD
BEGIN:DAYLIGHT
TZOFFSETFROM:+0100
TZOFFSETTO:+0200
TZNAME:CEST
DTSTART:20260329T010000
END:DAYLIGHT
BEGIN:STANDARD
TZOFFSETFROM:+0200
TZOFFSETTO:+0100
TZNAME:CET
DTSTART:20261025T010000
END:STANDARD
BEGIN:DAYLIGHT
TZOFFSETFROM:+0100
TZOFFSETTO:+0200
TZNAME:CEST
DTSTART:20270328T010000
END:DAYLIGHT
BEGIN:STANDARD
TZOFFSETFROM:+0200
TZOFFSETTO:+0100
TZNAME:CET
DTSTART:20271031T010000
END:STANDARD
END:VTIMEZONE
BEGIN:VEVENT
DTSTART;TZID=Europe/Berlin:20260820T180000
DTEND;TZID=Europe/Berlin:20260820T183000
DTSTAMP:20260420T142311
CREATED:20260223T083556Z
LAST-MODIFIED:20260320T180027Z
UID:2118-1787248800-1787250600@raum-der-stille-deggendorf.de
SUMMARY:Kleine Auszeit für Mamas mit Sarah Knittl
DESCRIPTION:Donnerstag\, den 20.08.2026 von 18:00 Uhr bis 18:30 Uhr\nKleine Auszeit für Mamas mit Sarah Knittl \nVon Sarah für Dich:\nDiese kleine Auszeit ist eine Einladung an dich als Mama\, deinen Alltag für einen Moment hinter dir zu lassen und mental zur Ruhe zu kommen. \nAls Mama bist du 24/7 im Geben und Funktionieren. In dieser kleinen Auszeit schaffen wir einen Raum\, um mal bewusst Zeit für dich zu haben. Kleine Selfcare-Rituale helfen dir dabei\, dich selbst wieder zu spüren und neue Kraft für deinen Mama-Alltag zu sammeln. \nIch freu mich auf dich! \nBitte bring deine eigene Yogamatte mit und ggf. eine Decke/Sitzkissen. \nAuf Spendenbasis: Zahl\, so viel dir diese kleine Auszeit wert ist! \nAnmeldung direkt bei Sarah
URL:https://raum-der-stille-deggendorf.de/veranstaltung/kleine-auszeit-fuer-mamas-mit-sarah-knittl/
LOCATION:Raum der Stille\, Deggendorf
END:VEVENT
END:VCALENDAR