BEGIN:VCALENDAR
VERSION:2.0
PRODID:-//Raum der Stille Deggendorf - ECPv6.15.20//NONSGML v1.0//EN
CALSCALE:GREGORIAN
METHOD:PUBLISH
X-WR-CALNAME:Raum der Stille Deggendorf
X-ORIGINAL-URL:https://raum-der-stille-deggendorf.de
X-WR-CALDESC:Veranstaltungen für Raum der Stille Deggendorf
REFRESH-INTERVAL;VALUE=DURATION:PT1H
X-Robots-Tag:noindex
X-PUBLISHED-TTL:PT1H
BEGIN:VTIMEZONE
TZID:Europe/Berlin
BEGIN:DAYLIGHT
TZOFFSETFROM:+0100
TZOFFSETTO:+0200
TZNAME:CEST
DTSTART:20240331T010000
END:DAYLIGHT
BEGIN:STANDARD
TZOFFSETFROM:+0200
TZOFFSETTO:+0100
TZNAME:CET
DTSTART:20241027T010000
END:STANDARD
BEGIN:DAYLIGHT
TZOFFSETFROM:+0100
TZOFFSETTO:+0200
TZNAME:CEST
DTSTART:20250330T010000
END:DAYLIGHT
BEGIN:STANDARD
TZOFFSETFROM:+0200
TZOFFSETTO:+0100
TZNAME:CET
DTSTART:20251026T010000
END:STANDARD
BEGIN:DAYLIGHT
TZOFFSETFROM:+0100
TZOFFSETTO:+0200
TZNAME:CEST
DTSTART:20260329T010000
END:DAYLIGHT
BEGIN:STANDARD
TZOFFSETFROM:+0200
TZOFFSETTO:+0100
TZNAME:CET
DTSTART:20261025T010000
END:STANDARD
END:VTIMEZONE
BEGIN:VEVENT
DTSTART;TZID=Europe/Berlin:20251008T173000
DTEND;TZID=Europe/Berlin:20251008T193000
DTSTAMP:20260421T063440
CREATED:20250808T105744Z
LAST-MODIFIED:20250904T081316Z
UID:1829-1759944600-1759951800@raum-der-stille-deggendorf.de
SUMMARY:Erholsamer Schlaf und mentale Balance - Ganzheitlich und mit Ayurveda mit Manuela Strohmaier
DESCRIPTION:Erholsamer Schlaf und mentale Balance – Ganzheitlich und mit Ayurveda\nAm Mittwoch\, den 08.10.2025 ab 17:30 Uhr bis ca. 19:30 Uhr mit Manuela Strohmaier im Raum der Stille \nWas dich erwartet: \n\nSchlaf verstehen (vertiefe dein Wissen und finde ganzheitliche Ansätze)\nRezepte aus der Ayurveda-Gewürzapotheke (zum probieren hat Manuela etwas für dich dabei)\nAnspannungen lösen mit Massage und Atemübung\n\nBitte melde dich direkt bei Manuela an. Begrenzte Plätze.\nKomm gerne in bequemer und warmer Kleidung. Bitte bring dir deine Matte\, Decke und ein Kissen mit. \nTeilnahmegebühr inkl. Skript: 25\,00 Euro
URL:https://raum-der-stille-deggendorf.de/veranstaltung/erholsamer-schlaf-und-mentale-balance-mit-manuela-strohmaier/
LOCATION:Raum der Stille\, Deggendorf
ORGANIZER;CN="Manuela Strohmaier - Mahila Ayurveda":MAILTO:manustrohmaier@web.de
END:VEVENT
END:VCALENDAR