BEGIN:VCALENDAR
VERSION:2.0
PRODID:-//Raum der Stille Deggendorf - ECPv6.15.20//NONSGML v1.0//EN
CALSCALE:GREGORIAN
METHOD:PUBLISH
X-ORIGINAL-URL:https://raum-der-stille-deggendorf.de
X-WR-CALDESC:Veranstaltungen für Raum der Stille Deggendorf
REFRESH-INTERVAL;VALUE=DURATION:PT1H
X-Robots-Tag:noindex
X-PUBLISHED-TTL:PT1H
BEGIN:VTIMEZONE
TZID:Europe/Berlin
BEGIN:DAYLIGHT
TZOFFSETFROM:+0100
TZOFFSETTO:+0200
TZNAME:CEST
DTSTART:20250330T010000
END:DAYLIGHT
BEGIN:STANDARD
TZOFFSETFROM:+0200
TZOFFSETTO:+0100
TZNAME:CET
DTSTART:20251026T010000
END:STANDARD
BEGIN:DAYLIGHT
TZOFFSETFROM:+0100
TZOFFSETTO:+0200
TZNAME:CEST
DTSTART:20260329T010000
END:DAYLIGHT
BEGIN:STANDARD
TZOFFSETFROM:+0200
TZOFFSETTO:+0100
TZNAME:CET
DTSTART:20261025T010000
END:STANDARD
BEGIN:DAYLIGHT
TZOFFSETFROM:+0100
TZOFFSETTO:+0200
TZNAME:CEST
DTSTART:20270328T010000
END:DAYLIGHT
BEGIN:STANDARD
TZOFFSETFROM:+0200
TZOFFSETTO:+0100
TZNAME:CET
DTSTART:20271031T010000
END:STANDARD
END:VTIMEZONE
BEGIN:VEVENT
DTSTART;TZID=Europe/Berlin:20260726T120000
DTEND;TZID=Europe/Berlin:20260726T190000
DTSTAMP:20260420T183119
CREATED:20260309T082521Z
LAST-MODIFIED:20260309T082521Z
UID:2426-1785067200-1785092400@raum-der-stille-deggendorf.de
SUMMARY:RESERVIERT für Manuela Strohmaier - Mahila Ayurveda
DESCRIPTION:RESERVIERT für Manuela Strohmaier – Mahila Ayurveda\nKurz-Massagen ayurvedisch\nDetails folgen
URL:https://raum-der-stille-deggendorf.de/veranstaltung/reserviert-fuer-manuela-strohmaier-mahila-ayurveda/
LOCATION:Raum der Stille\, Deggendorf
ORGANIZER;CN="Manuela Strohmaier - Mahila Ayurveda":MAILTO:manustrohmaier@web.de
END:VEVENT
END:VCALENDAR