BEGIN:VCALENDAR
VERSION:2.0
PRODID:-//Raum der Stille Deggendorf - ECPv6.15.20//NONSGML v1.0//EN
CALSCALE:GREGORIAN
METHOD:PUBLISH
X-WR-CALNAME:Raum der Stille Deggendorf
X-ORIGINAL-URL:https://raum-der-stille-deggendorf.de
X-WR-CALDESC:Veranstaltungen für Raum der Stille Deggendorf
REFRESH-INTERVAL;VALUE=DURATION:PT1H
X-Robots-Tag:noindex
X-PUBLISHED-TTL:PT1H
BEGIN:VTIMEZONE
TZID:Europe/Berlin
BEGIN:DAYLIGHT
TZOFFSETFROM:+0100
TZOFFSETTO:+0200
TZNAME:CEST
DTSTART:20240331T010000
END:DAYLIGHT
BEGIN:STANDARD
TZOFFSETFROM:+0200
TZOFFSETTO:+0100
TZNAME:CET
DTSTART:20241027T010000
END:STANDARD
BEGIN:DAYLIGHT
TZOFFSETFROM:+0100
TZOFFSETTO:+0200
TZNAME:CEST
DTSTART:20250330T010000
END:DAYLIGHT
BEGIN:STANDARD
TZOFFSETFROM:+0200
TZOFFSETTO:+0100
TZNAME:CET
DTSTART:20251026T010000
END:STANDARD
BEGIN:DAYLIGHT
TZOFFSETFROM:+0100
TZOFFSETTO:+0200
TZNAME:CEST
DTSTART:20260329T010000
END:DAYLIGHT
BEGIN:STANDARD
TZOFFSETFROM:+0200
TZOFFSETTO:+0100
TZNAME:CET
DTSTART:20261025T010000
END:STANDARD
END:VTIMEZONE
BEGIN:VEVENT
DTSTART;TZID=Europe/Berlin:20250719T170000
DTEND;TZID=Europe/Berlin:20250719T193000
DTSTAMP:20260421T031234
CREATED:20250623T083316Z
LAST-MODIFIED:20250708T085647Z
UID:1586-1752944400-1752953400@raum-der-stille-deggendorf.de
SUMMARY:Pole-Picknick Let's Fly Poledance mit Daria
DESCRIPTION:Daria feiert den 3. Geburtstag ihres Poledance-Studios Let’s Fly (Adresse des Studios: Schulstr. 10\, 94447 Plattling)\nAm 19.07.2025 ab 17:00 Uhr lädt Daria euch herzlich zu einem Pole-Picknick ein – eine ganz besondere Geburtstagsfeier unter freiem Himmel. \nFreut euch auf: \n\nGemeinsames Aufwärmen\nPole Shows & Open Stage\nLeckere Geburtstagstorte\nFly-Zone: Aerial Hoop\, Flying Pole\, Aerial Hammock\nGute Stimmung & tolle Community\nEs besteht die Möglichkeit Fotos und Videos zu machen\n\nKommt gerne vorbei\, bringt eure Matte oder Picknickdecke mit und feiert mit Daria diesen besonderen Tag!\nBringt euch bitte bequeme Sportkleidung mit für die Pole und den Hoop. \nWo: Raum der Stille im Stadthallenpark in Deggendorf.\nWann: 19.07.2025 ab 17:00 Uhr\nWer: Alle Kursteilnehmerinnen und alle Freunde – jeder\, der an diesem Tag Lust hat mit uns zu feiern – egal\, ob du schon bei uns trainierst oder einfach neugierig bist.\nWas noch?: Decke/Matte\, Pole Outfit\, Snacks und Getränke für Picknick \nBring einfach deine Freundin\, Freund oder Familie mit und habt gemeinsam Spaß mit uns an diesem Tag! Der Eintritt ist völlig kostenlos. Wenn ihr diese Veranstaltung dennoch unterstützen wollt\, dann steht vor Ort eine Spendenbox für kleine Beiträge bereit.\nKeine Sorge wegen dem Wetter! Wenn es regnet\, geht ihr einfach in den Raum der Stille. Daria kann es kaum erwarten\, mit euch zu fliegen. \n 
URL:https://raum-der-stille-deggendorf.de/veranstaltung/pole-picknick-lets-fly-mit-daria/
LOCATION:Raum der Stille\, Deggendorf
END:VEVENT
END:VCALENDAR