BEGIN:VCALENDAR
VERSION:2.0
PRODID:-//Raum der Stille Deggendorf - ECPv6.15.20//NONSGML v1.0//EN
CALSCALE:GREGORIAN
METHOD:PUBLISH
X-WR-CALNAME:Raum der Stille Deggendorf
X-ORIGINAL-URL:https://raum-der-stille-deggendorf.de
X-WR-CALDESC:Veranstaltungen für Raum der Stille Deggendorf
REFRESH-INTERVAL;VALUE=DURATION:PT1H
X-Robots-Tag:noindex
X-PUBLISHED-TTL:PT1H
BEGIN:VTIMEZONE
TZID:Europe/Berlin
BEGIN:DAYLIGHT
TZOFFSETFROM:+0100
TZOFFSETTO:+0200
TZNAME:CEST
DTSTART:20250330T010000
END:DAYLIGHT
BEGIN:STANDARD
TZOFFSETFROM:+0200
TZOFFSETTO:+0100
TZNAME:CET
DTSTART:20251026T010000
END:STANDARD
BEGIN:DAYLIGHT
TZOFFSETFROM:+0100
TZOFFSETTO:+0200
TZNAME:CEST
DTSTART:20260329T010000
END:DAYLIGHT
BEGIN:STANDARD
TZOFFSETFROM:+0200
TZOFFSETTO:+0100
TZNAME:CET
DTSTART:20261025T010000
END:STANDARD
BEGIN:DAYLIGHT
TZOFFSETFROM:+0100
TZOFFSETTO:+0200
TZNAME:CEST
DTSTART:20270328T010000
END:DAYLIGHT
BEGIN:STANDARD
TZOFFSETFROM:+0200
TZOFFSETTO:+0100
TZNAME:CET
DTSTART:20271031T010000
END:STANDARD
END:VTIMEZONE
BEGIN:VEVENT
DTSTART;TZID=Europe/Berlin:20260504T180000
DTEND;TZID=Europe/Berlin:20260504T191500
DTSTAMP:20260420T015524
CREATED:20260303T074114Z
LAST-MODIFIED:20260309T153228Z
UID:2238-1777917600-1777922100@raum-der-stille-deggendorf.de
SUMMARY:Qi Gong & Stille für Jedermann mit Andi Neumeier
DESCRIPTION:Qi Gong & Stille für Jedermann mit Andi Neumeier\nMontag den 04.05.2026 von 18:00 Uhr bis 19:15 Uhr\nOhne Anmeldung und auf Spendenbasis (bedeutet: zahl gerne soviel Du kannst/magst. Gerne mehr. So lädst Du jemanden ein\, der nicht so viel hat)\nAndi kommt mit Qi Gong & Stille insgesamt 13mal in den Raum der Stille. Jeder Termin kann einzeln besucht werden und wir freuen uns über wirklich jeden\, der dieses Angebot annimmt. Egal ob nur einmal oder mehrmals. Für jedes Alter geeignet. \nVon Andi für Euch:\nTauchen Sie ein in die Welt der sanften Bewegungen und finden Sie zur inneren Ruhe.\nIch biete eine offene QiGong Stunde an\, die Körper\, Geist und Atmung in Einklang bringt.\nDie Stunde dient dazu\, den Körper zu entspannen\, den Geist zu beruhigen und die Lebenskraft (Qi) zu stärken. \nVorkenntnisse sind keine erforderlich.\nInhalt: Die 8 Brokate\nOhne Anmeldung! Komme gerne spontan.\nBitte bring eine Matte\, eine Decke und bei Bedarf etwas zu Trinken mit.\nBequeme Kleidung ist empfehlenswert!
URL:https://raum-der-stille-deggendorf.de/veranstaltung/qi-gong-stille-fuer-jedermann-mit-andi-neumeier-3/
LOCATION:Raum der Stille\, Deggendorf
ORGANIZER;CN="Andi Neumeier":MAILTO:andi_neu@web.de
END:VEVENT
BEGIN:VEVENT
DTSTART;TZID=Europe/Berlin:20260511T180000
DTEND;TZID=Europe/Berlin:20260511T191500
DTSTAMP:20260420T015524
CREATED:20260303T074246Z
LAST-MODIFIED:20260309T153327Z
UID:2241-1778522400-1778526900@raum-der-stille-deggendorf.de
SUMMARY:Qi Gong & Stille für Jedermann mit Andi Neumeier
DESCRIPTION:Qi Gong & Stille für Jedermann mit Andi Neumeier\nMittwoch den 11.05.2026 von 18:00 Uhr bis 19:15 Uhr\nOhne Anmeldung und auf Spendenbasis (bedeutet: zahl gerne soviel Du kannst/magst. Gerne mehr. So lädst Du jemanden ein\, der nicht so viel hat)\nAndi kommt mit Qi Gong & Stille insgesamt 13mal in den Raum der Stille. Jeder Termin kann einzeln besucht werden und wir freuen uns über wirklich jeden\, der dieses Angebot annimmt. Egal ob nur einmal oder mehrmals. Für jedes Alter geeignet. \nVon Andi für Euch:\nTauchen Sie ein in die Welt der sanften Bewegungen und finden Sie zur inneren Ruhe.\nIch biete eine offene QiGong Stunde an\, die Körper\, Geist und Atmung in Einklang bringt.\nDie Stunde dient dazu\, den Körper zu entspannen\, den Geist zu beruhigen und die Lebenskraft (Qi) zu stärken. \nVorkenntnisse sind keine erforderlich.\nInhalt: Die 8 Brokate\nOhne Anmeldung! Komme gerne spontan.\nBitte bring eine Matte\, eine Decke und bei Bedarf etwas zu Trinken mit.\nBequeme Kleidung ist empfehlenswert! \n  \n 
URL:https://raum-der-stille-deggendorf.de/veranstaltung/qi-gong-stille-fuer-jedermann-mit-andi-neumeier-4/
LOCATION:Raum der Stille\, Deggendorf
ORGANIZER;CN="Andi Neumeier":MAILTO:andi_neu@web.de
END:VEVENT
BEGIN:VEVENT
DTSTART;TZID=Europe/Berlin:20260520T180000
DTEND;TZID=Europe/Berlin:20260520T191500
DTSTAMP:20260420T015524
CREATED:20260303T074403Z
LAST-MODIFIED:20260309T153421Z
UID:2244-1779300000-1779304500@raum-der-stille-deggendorf.de
SUMMARY:Qi Gong & Stille für Jedermann mit Andi Neumeier
DESCRIPTION:Qi Gong & Stille für Jedermann mit Andi Neumeier\nMittwoch den 20.05.2026 von 18:00 Uhr bis 19:15 Uhr\nOhne Anmeldung und auf Spendenbasis (bedeutet: zahl gerne soviel Du kannst/magst. Gerne mehr. So lädst Du jemanden ein\, der nicht so viel hat)\nAndi kommt mit Qi Gong & Stille insgesamt 13mal in den Raum der Stille. Jeder Termin kann einzeln besucht werden und wir freuen uns über wirklich jeden\, der dieses Angebot annimmt. Egal ob nur einmal oder mehrmals. Für jedes Alter geeignet. \nVon Andi für Euch:\nTauchen Sie ein in die Welt der sanften Bewegungen und finden Sie zur inneren Ruhe.\nIch biete eine offene QiGong Stunde an\, die Körper\, Geist und Atmung in Einklang bringt.\nDie Stunde dient dazu\, den Körper zu entspannen\, den Geist zu beruhigen und die Lebenskraft (Qi) zu stärken. \nVorkenntnisse sind keine erforderlich.\nInhalt: Die 8 Brokate\nOhne Anmeldung! Komme gerne spontan.\nBitte bring eine Matte\, eine Decke und bei Bedarf etwas zu Trinken mit.\nBequeme Kleidung ist empfehlenswert! \n 
URL:https://raum-der-stille-deggendorf.de/veranstaltung/qi-gong-stille-fuer-jedermann-mit-andi-neumeier-5/
LOCATION:Raum der Stille\, Deggendorf
ORGANIZER;CN="Andi Neumeier":MAILTO:andi_neu@web.de
END:VEVENT
END:VCALENDAR