BEGIN:VCALENDAR
VERSION:2.0
PRODID:-//Raum der Stille Deggendorf - ECPv6.15.20//NONSGML v1.0//EN
CALSCALE:GREGORIAN
METHOD:PUBLISH
X-ORIGINAL-URL:https://raum-der-stille-deggendorf.de
X-WR-CALDESC:Veranstaltungen für Raum der Stille Deggendorf
REFRESH-INTERVAL;VALUE=DURATION:PT1H
X-Robots-Tag:noindex
X-PUBLISHED-TTL:PT1H
BEGIN:VTIMEZONE
TZID:Europe/Berlin
BEGIN:DAYLIGHT
TZOFFSETFROM:+0100
TZOFFSETTO:+0200
TZNAME:CEST
DTSTART:20250330T010000
END:DAYLIGHT
BEGIN:STANDARD
TZOFFSETFROM:+0200
TZOFFSETTO:+0100
TZNAME:CET
DTSTART:20251026T010000
END:STANDARD
BEGIN:DAYLIGHT
TZOFFSETFROM:+0100
TZOFFSETTO:+0200
TZNAME:CEST
DTSTART:20260329T010000
END:DAYLIGHT
BEGIN:STANDARD
TZOFFSETFROM:+0200
TZOFFSETTO:+0100
TZNAME:CET
DTSTART:20261025T010000
END:STANDARD
BEGIN:DAYLIGHT
TZOFFSETFROM:+0100
TZOFFSETTO:+0200
TZNAME:CEST
DTSTART:20270328T010000
END:DAYLIGHT
BEGIN:STANDARD
TZOFFSETFROM:+0200
TZOFFSETTO:+0100
TZNAME:CET
DTSTART:20271031T010000
END:STANDARD
END:VTIMEZONE
BEGIN:VEVENT
DTSTART;TZID=Europe/Berlin:20260608T180000
DTEND;TZID=Europe/Berlin:20260608T191500
DTSTAMP:20260420T034017
CREATED:20260303T074842Z
LAST-MODIFIED:20260309T153513Z
UID:2255-1780941600-1780946100@raum-der-stille-deggendorf.de
SUMMARY:Qi Gong & Stille für Jedermann mit Andi Neumeier
DESCRIPTION:Qi Gong & Stille für Jedermann mit Andi Neumeier\nMontag\, den 08.06.2026 von 18:00 Uhr bis 19:15 Uhr\nOhne Anmeldung und auf Spendenbasis (bedeutet: zahl gerne soviel Du kannst/magst. Gerne mehr. So lädst Du jemanden ein\, der nicht so viel hat)\nAndi kommt mit Qi Gong & Stille insgesamt 13mal in den Raum der Stille. Jeder Termin kann einzeln besucht werden und wir freuen uns über wirklich jeden\, der dieses Angebot annimmt. Egal ob nur einmal oder mehrmals. Für jedes Alter geeignet. \nVon Andi für Euch:\nTauchen Sie ein in die Welt der sanften Bewegungen und finden Sie zur inneren Ruhe.\nIch biete eine offene QiGong Stunde an\, die Körper\, Geist und Atmung in Einklang bringt.\nDie Stunde dient dazu\, den Körper zu entspannen\, den Geist zu beruhigen und die Lebenskraft (Qi) zu stärken. \nVorkenntnisse sind keine erforderlich.\nInhalt: Die 8 Brokate\nOhne Anmeldung! Komme gerne spontan.\nBitte bring eine Matte\, eine Decke und bei Bedarf etwas zu Trinken mit.\nBequeme Kleidung ist empfehlenswert! \n 
URL:https://raum-der-stille-deggendorf.de/veranstaltung/qi-gong-stille-fuer-jedermann-mit-andi-neumeier-8/
LOCATION:Raum der Stille\, Deggendorf
ORGANIZER;CN="Andi Neumeier":MAILTO:andi_neu@web.de
END:VEVENT
BEGIN:VEVENT
DTSTART;TZID=Europe/Berlin:20260617T180000
DTEND;TZID=Europe/Berlin:20260617T191500
DTSTAMP:20260420T034017
CREATED:20260303T075001Z
LAST-MODIFIED:20260309T153607Z
UID:2258-1781719200-1781723700@raum-der-stille-deggendorf.de
SUMMARY:Qi Gong & Stille für Jedermann mit Andi Neumeier
DESCRIPTION:Qi Gong & Stille für Jedermann mit Andi Neumeier\nMittwoch den 17.06.2026 von 18:00 Uhr bis 19:15 Uhr\nOhne Anmeldung und auf Spendenbasis (bedeutet: zahl gerne soviel Du kannst/magst. Gerne mehr. So lädst Du jemanden ein\, der nicht so viel hat)\nAndi kommt mit Qi Gong & Stille insgesamt 13mal in den Raum der Stille. Jeder Termin kann einzeln besucht werden und wir freuen uns über wirklich jeden\, der dieses Angebot annimmt. Egal ob nur einmal oder mehrmals. Für jedes Alter geeignet. \nVon Andi für Euch:\nTauchen Sie ein in die Welt der sanften Bewegungen und finden Sie zur inneren Ruhe.\nIch biete eine offene QiGong Stunde an\, die Körper\, Geist und Atmung in Einklang bringt.\nDie Stunde dient dazu\, den Körper zu entspannen\, den Geist zu beruhigen und die Lebenskraft (Qi) zu stärken. \nVorkenntnisse sind keine erforderlich.\nInhalt: Die 8 Brokate\nOhne Anmeldung! Komme gerne spontan.\nBitte bring eine Matte\, eine Decke und bei Bedarf etwas zu Trinken mit.\nBequeme Kleidung ist empfehlenswert! \n 
URL:https://raum-der-stille-deggendorf.de/veranstaltung/qi-gong-stille-fuer-jedermann-mit-andi-neumeier-9/
LOCATION:Raum der Stille\, Deggendorf
ORGANIZER;CN="Andi Neumeier":MAILTO:andi_neu@web.de
END:VEVENT
BEGIN:VEVENT
DTSTART;TZID=Europe/Berlin:20260624T180000
DTEND;TZID=Europe/Berlin:20260624T191500
DTSTAMP:20260420T034017
CREATED:20260303T075304Z
LAST-MODIFIED:20260309T153656Z
UID:2261-1782324000-1782328500@raum-der-stille-deggendorf.de
SUMMARY:Qi Gong & Stille für Jedermann mit Andi Neumeier
DESCRIPTION:Qi Gong & Stille für Jedermann mit Andi Neumeier\nMittwoch den 24.06.2026 von 18:00 Uhr bis 19:15 Uhr\nOhne Anmeldung und auf Spendenbasis (bedeutet: zahl gerne soviel Du kannst/magst. Gerne mehr. So lädst Du jemanden ein\, der nicht so viel hat)\nAndi kommt mit Qi Gong & Stille insgesamt 13mal in den Raum der Stille. Jeder Termin kann einzeln besucht werden und wir freuen uns über wirklich jeden\, der dieses Angebot annimmt. Egal ob nur einmal oder mehrmals. Für jedes Alter geeignet. \nVon Andi für Euch:\nTauchen Sie ein in die Welt der sanften Bewegungen und finden Sie zur inneren Ruhe.\nIch biete eine offene QiGong Stunde an\, die Körper\, Geist und Atmung in Einklang bringt.\nDie Stunde dient dazu\, den Körper zu entspannen\, den Geist zu beruhigen und die Lebenskraft (Qi) zu stärken. \nVorkenntnisse sind keine erforderlich.\nInhalt: Die 8 Brokate\nOhne Anmeldung! Komme gerne spontan.\nBitte bring eine Matte\, eine Decke und bei Bedarf etwas zu Trinken mit.\nBequeme Kleidung ist empfehlenswert! \n 
URL:https://raum-der-stille-deggendorf.de/veranstaltung/qi-gong-stille-fuer-jedermann-mit-andi-neumeier-10/
LOCATION:Raum der Stille\, Deggendorf
ORGANIZER;CN="Andi Neumeier":MAILTO:andi_neu@web.de
END:VEVENT
BEGIN:VEVENT
DTSTART;TZID=Europe/Berlin:20260625T171500
DTEND;TZID=Europe/Berlin:20260625T180000
DTSTAMP:20260420T034017
CREATED:20260127T072854Z
LAST-MODIFIED:20260329T124229Z
UID:1944-1782407700-1782410400@raum-der-stille-deggendorf.de
SUMMARY:Qi Gong - vorbeugen und in Balance bleiben mit Sandra Schwarzmann
DESCRIPTION:Qi Gong – vorbeugen und in Balance bleiben mit Sandra Schwarzmann\nDonnerstag\, den 25.06.2026 von 17:15 Uhr bis 18:00 Uhr \nVon Sandra für Euch:\nQi Gong – vorbeugen und in Balance bleiben\nQi Gong kann dich dabei unterstützen\, deine Gesundheit langfristig zu erhalten und Beschwerden vorzubeugen. Durch die ruhigen\, fließenden Bewegungen wird dein Nervensystem reguliert\, Stress frühzeitig abgebaut und dein Körper in einen ausgeglichenen Zustand gebracht.\nRegelmäßige Praxis kann helfen\, Verspannungen und Rückenschmerzen vorzubeugen\, die Beweglichkeit zu erhalten und Erschöpfung entgegenzuwirken. Auch dein Immunsystem wird gestärkt\, sodass dein Körper widerstandsfähiger gegenüber Belastungen wird.\nQi Gong wirkt dabei nicht nur auf körperlicher Ebene\, sondern unterstützt dich auch mental: mehr innere Ruhe\, bessere Stressbewältigung und ein stabileres emotionales Gleichgewicht. \nAbsolut anfängertauglich! 😁 \nBitte bei Sandra direkt anmelden (WhatsApp oder telefonisch). Findet drinnen statt – die Plätze sind begrenzt.\nAuf Spendenbasis (bedeutet: zahl so viel Du kannst/magst. Gerne etwas mehr – so lädst Du jemanden ein\, der nicht so viel hat)\nBitte bring Dir eine Matte mit\, gerne auch eine Decke und etwas zu trinken. Komm in bequemer\, dem Wetter angepasster Kleidung.\nEs sind keine Vorkenntnisse erforderlich. Jeder ist herzlich Willkommen.
URL:https://raum-der-stille-deggendorf.de/veranstaltung/qi-gong-mit-sandra-schwarzmann/
LOCATION:Raum der Stille\, Deggendorf
ORGANIZER;CN="Sandra Schwarzmann":MAILTO:sonnenklarcoaching@gmx.de
END:VEVENT
END:VCALENDAR