BEGIN:VCALENDAR
VERSION:2.0
PRODID:-//Raum der Stille Deggendorf - ECPv6.15.20//NONSGML v1.0//EN
CALSCALE:GREGORIAN
METHOD:PUBLISH
X-ORIGINAL-URL:https://raum-der-stille-deggendorf.de
X-WR-CALDESC:Veranstaltungen für Raum der Stille Deggendorf
REFRESH-INTERVAL;VALUE=DURATION:PT1H
X-Robots-Tag:noindex
X-PUBLISHED-TTL:PT1H
BEGIN:VTIMEZONE
TZID:Europe/Berlin
BEGIN:DAYLIGHT
TZOFFSETFROM:+0100
TZOFFSETTO:+0200
TZNAME:CEST
DTSTART:20250330T010000
END:DAYLIGHT
BEGIN:STANDARD
TZOFFSETFROM:+0200
TZOFFSETTO:+0100
TZNAME:CET
DTSTART:20251026T010000
END:STANDARD
BEGIN:DAYLIGHT
TZOFFSETFROM:+0100
TZOFFSETTO:+0200
TZNAME:CEST
DTSTART:20260329T010000
END:DAYLIGHT
BEGIN:STANDARD
TZOFFSETFROM:+0200
TZOFFSETTO:+0100
TZNAME:CET
DTSTART:20261025T010000
END:STANDARD
BEGIN:DAYLIGHT
TZOFFSETFROM:+0100
TZOFFSETTO:+0200
TZNAME:CEST
DTSTART:20270328T010000
END:DAYLIGHT
BEGIN:STANDARD
TZOFFSETFROM:+0200
TZOFFSETTO:+0100
TZNAME:CET
DTSTART:20271031T010000
END:STANDARD
END:VTIMEZONE
BEGIN:VEVENT
DTSTART;TZID=Europe/Berlin:20260722T180000
DTEND;TZID=Europe/Berlin:20260722T191500
DTSTAMP:20260420T000915
CREATED:20260303T075858Z
LAST-MODIFIED:20260309T154027Z
UID:2273-1784743200-1784747700@raum-der-stille-deggendorf.de
SUMMARY:Qi Gong & Stille für Jedermann mit Andi Neumeier
DESCRIPTION:Qi Gong & Stille für Jedermann mit Andi Neumeier\nMittwoch\, den 22.07.2026 von 18:00 Uhr bis 19:15 Uhr\nOhne Anmeldung und auf Spendenbasis (bedeutet: zahl gerne soviel Du kannst/magst. Gerne mehr. So lädst Du jemanden ein\, der nicht so viel hat)\nAndi kommt mit Qi Gong & Stille insgesamt 13mal in den Raum der Stille. Jeder Termin kann einzeln besucht werden und wir freuen uns über wirklich jeden\, der dieses Angebot annimmt. Egal ob nur einmal oder mehrmals. Für jedes Alter geeignet. \nVon Andi für Euch:\nTauchen Sie ein in die Welt der sanften Bewegungen und finden Sie zur inneren Ruhe.\nIch biete eine offene QiGong Stunde an\, die Körper\, Geist und Atmung in Einklang bringt.\nDie Stunde dient dazu\, den Körper zu entspannen\, den Geist zu beruhigen und die Lebenskraft (Qi) zu stärken. \nVorkenntnisse sind keine erforderlich.\nInhalt: Die 8 Brokate\nOhne Anmeldung! Komme gerne spontan.\nBitte bring eine Matte\, eine Decke und bei Bedarf etwas zu Trinken mit.\nBequeme Kleidung ist empfehlenswert! \n 
URL:https://raum-der-stille-deggendorf.de/veranstaltung/qi-gong-stille-fuer-jedermann-mit-andi-neumeier-14/
LOCATION:Raum der Stille\, Deggendorf
ORGANIZER;CN="Andi Neumeier":MAILTO:andi_neu@web.de
END:VEVENT
BEGIN:VEVENT
DTSTART;TZID=Europe/Berlin:20260729T180000
DTEND;TZID=Europe/Berlin:20260729T191500
DTSTAMP:20260420T000915
CREATED:20260303T080014Z
LAST-MODIFIED:20260309T154118Z
UID:2276-1785348000-1785352500@raum-der-stille-deggendorf.de
SUMMARY:Qi Gong & Stille für Jedermann mit Andi Neumeier
DESCRIPTION:Qi Gong & Stille für Jedermann mit Andi Neumeier\nMittwoch\, den 29.07.2026 von 18:00 Uhr bis 19:15 Uhr\nOhne Anmeldung und auf Spendenbasis (bedeutet: zahl gerne soviel Du kannst/magst. Gerne mehr. So lädst Du jemanden ein\, der nicht so viel hat)\nAndi kommt mit Qi Gong & Stille insgesamt 13mal in den Raum der Stille. Jeder Termin kann einzeln besucht werden und wir freuen uns über wirklich jeden\, der dieses Angebot annimmt. Egal ob nur einmal oder mehrmals. Für jedes Alter geeignet. \nVon Andi für Euch:\nTauchen Sie ein in die Welt der sanften Bewegungen und finden Sie zur inneren Ruhe.\nIch biete eine offene QiGong Stunde an\, die Körper\, Geist und Atmung in Einklang bringt.\nDie Stunde dient dazu\, den Körper zu entspannen\, den Geist zu beruhigen und die Lebenskraft (Qi) zu stärken. \nVorkenntnisse sind keine erforderlich.\nInhalt: Die 8 Brokate\nOhne Anmeldung! Komme gerne spontan.\nBitte bring eine Matte\, eine Decke und bei Bedarf etwas zu Trinken mit.\nBequeme Kleidung ist empfehlenswert! \n 
URL:https://raum-der-stille-deggendorf.de/veranstaltung/qi-gong-stille-fuer-jedermann-mit-andi-neumeier-15/
LOCATION:Raum der Stille\, Deggendorf
ORGANIZER;CN="Andi Neumeier":MAILTO:andi_neu@web.de
END:VEVENT
BEGIN:VEVENT
DTSTART;TZID=Europe/Berlin:20260927T101500
DTEND;TZID=Europe/Berlin:20260927T110000
DTSTAMP:20260420T000915
CREATED:20260127T073251Z
LAST-MODIFIED:20260329T124354Z
UID:1948-1790504100-1790506800@raum-der-stille-deggendorf.de
SUMMARY:Qi Gong - vorbeugen und in Balance bleiben mit Sandra Schwarzmann
DESCRIPTION:Qi Gong – vorbeugen und in Balance bleiben mit Sandra Schwarzmann\nSonntag\, den 27.09.2026 von 10:15 Uhr bis 11:00 Uhr \nVon Sandra für Euch:\nQi Gong – vorbeugen und in Balance bleiben\nQi Gong kann dich dabei unterstützen\, deine Gesundheit langfristig zu erhalten und Beschwerden vorzubeugen. Durch die ruhigen\, fließenden Bewegungen wird dein Nervensystem reguliert\, Stress frühzeitig abgebaut und dein Körper in einen ausgeglichenen Zustand gebracht.\nRegelmäßige Praxis kann helfen\, Verspannungen und Rückenschmerzen vorzubeugen\, die Beweglichkeit zu erhalten und Erschöpfung entgegenzuwirken. Auch dein Immunsystem wird gestärkt\, sodass dein Körper widerstandsfähiger gegenüber Belastungen wird.\nQi Gong wirkt dabei nicht nur auf körperlicher Ebene\, sondern unterstützt dich auch mental: mehr innere Ruhe\, bessere Stressbewältigung und ein stabileres emotionales Gleichgewicht. \nAbsolut anfängertauglich! 😁 \nBitte bei Sandra direkt anmelden (WhatsApp oder telefonisch). Findet drinnen statt – die Plätze sind begrenzt.\nAuf Spendenbasis (bedeutet: zahl so viel Du kannst/magst. Gerne etwas mehr – so lädst Du jemanden ein\, der nicht so viel hat)\nBitte bring Dir eine Matte mit\, gerne auch eine Decke und etwas zu trinken. Komm in bequemer\, dem Wetter angepasster Kleidung.\nEs sind keine Vorkenntnisse erforderlich. Jeder ist herzlich Willkommen.
URL:https://raum-der-stille-deggendorf.de/veranstaltung/qi-gong-mit-sandra-schwarzmann-3/
LOCATION:Raum der Stille\, Deggendorf
ORGANIZER;CN="Sandra Schwarzmann":MAILTO:sonnenklarcoaching@gmx.de
END:VEVENT
END:VCALENDAR