BEGIN:VCALENDAR
VERSION:2.0
PRODID:-//Raum der Stille Deggendorf - ECPv6.15.20//NONSGML v1.0//EN
CALSCALE:GREGORIAN
METHOD:PUBLISH
X-ORIGINAL-URL:https://raum-der-stille-deggendorf.de
X-WR-CALDESC:Veranstaltungen für Raum der Stille Deggendorf
REFRESH-INTERVAL;VALUE=DURATION:PT1H
X-Robots-Tag:noindex
X-PUBLISHED-TTL:PT1H
BEGIN:VTIMEZONE
TZID:Europe/Berlin
BEGIN:DAYLIGHT
TZOFFSETFROM:+0100
TZOFFSETTO:+0200
TZNAME:CEST
DTSTART:20240331T010000
END:DAYLIGHT
BEGIN:STANDARD
TZOFFSETFROM:+0200
TZOFFSETTO:+0100
TZNAME:CET
DTSTART:20241027T010000
END:STANDARD
BEGIN:DAYLIGHT
TZOFFSETFROM:+0100
TZOFFSETTO:+0200
TZNAME:CEST
DTSTART:20250330T010000
END:DAYLIGHT
BEGIN:STANDARD
TZOFFSETFROM:+0200
TZOFFSETTO:+0100
TZNAME:CET
DTSTART:20251026T010000
END:STANDARD
BEGIN:DAYLIGHT
TZOFFSETFROM:+0100
TZOFFSETTO:+0200
TZNAME:CEST
DTSTART:20260329T010000
END:DAYLIGHT
BEGIN:STANDARD
TZOFFSETFROM:+0200
TZOFFSETTO:+0100
TZNAME:CET
DTSTART:20261025T010000
END:STANDARD
END:VTIMEZONE
BEGIN:VEVENT
DTSTART;TZID=Europe/Berlin:20250908T174500
DTEND;TZID=Europe/Berlin:20250908T190000
DTSTAMP:20260422T031701
CREATED:20250721T084114Z
LAST-MODIFIED:20250721T084114Z
UID:1687-1757353500-1757358000@raum-der-stille-deggendorf.de
SUMMARY:Rave & Relax mit Anna Stromer
DESCRIPTION:RAVE & RELAX mit Anna Stromer am 08.09.2025 um 17:45 Uhr bis ca. 19:00 Uhr am/im Raum der Stille \nSomatisches Yoga und bewegte Meditation zu elektronischen Klängen\nTuche ein in eine einzigartige Erfahrung\, bei der Körper\, Geist und Musik verschmelzen. Bei RAVE & RELAX verbinden wir sanftes\, somatisches Yoga mit bewegter Meditation und entspannten elektronischen Klängen alles in einer Atmosphäre\, die zum Loslassen\, Entspannen und inneren Fließen einlädt. \nNo hard techno! Für alle\, die gerne elektronische Musik hören und sich auf eine entspannte\, meditative Reise begeben möchten.\nAuch Anfänger*innen sind herzlich willkommen. Keine Vorkenntnisse nötig. \nWährend der Session wirst du durch achtsame Bewegungen\, Atemübungen und meditative Flows geführt\, begleitet von atmosphärischer Elektronik\, wie z. B. Chill Electronica\, Tech House oder Mantren verbunden mit kraftvollen Beats. Die Klänge sind nicht zu wild\, sondern hochschwingend\, unterstützen die Entspannung das innere Loslassen. \nWas dich erwartet: \n\nSanfte\, somatische Bewegungen und Atemübungen\nBewegte Meditation zum Loslassen und regulieren\nElektronische Klänge\, die die innere Reise begleiten\nEin Raum der Stille und des Loslassens\n\nOrt: Raum der Stille im Stadthallenpark in Deggendorf am Montag\, den 08.09.2025 um 17:45 Uhr für ca. 75 Minuten\nBei schönem Wetter draussen – bei schlechtem Wetter drinnen (Obacht: drinnen begrenzte Plätze)\nPreis: 25\,00 Euro\nTeilnahme: Bitte bring bequeme Kleidung\, eine Yogamatte und Offenheit mit.\nSpende: Es werden von Anna 30% der Teilnahmegebühr an „Juno München“ gespendet um geflüchtete Frauen zu unterstützen. Was als wahr gilt in einer Gesellschaft\, hängt davon ab\, welche Gruppe sich Gehör verschaffen kann. Geflüchteten hören wir kaum zu – geflüchteten Frauen schon gar nicht. Diese Unterstützung ist wichtig\, um diese hörbar zu machen. Hier sind die Infos zu Juno München: Juno München \nDu kannst teilnehmen in dem du dich mindestens 3 Tage von dem Termin direkt bei Anna telefonisch anmeldest\, damit wir alles gut planen können.
URL:https://raum-der-stille-deggendorf.de/veranstaltung/rave-relax-mit-anna-stromer/
LOCATION:Raum der Stille\, Deggendorf
END:VEVENT
END:VCALENDAR