BEGIN:VCALENDAR
VERSION:2.0
PRODID:-//Raum der Stille Deggendorf - ECPv6.15.20//NONSGML v1.0//EN
CALSCALE:GREGORIAN
METHOD:PUBLISH
X-ORIGINAL-URL:https://raum-der-stille-deggendorf.de
X-WR-CALDESC:Veranstaltungen für Raum der Stille Deggendorf
REFRESH-INTERVAL;VALUE=DURATION:PT1H
X-Robots-Tag:noindex
X-PUBLISHED-TTL:PT1H
BEGIN:VTIMEZONE
TZID:Europe/Berlin
BEGIN:DAYLIGHT
TZOFFSETFROM:+0100
TZOFFSETTO:+0200
TZNAME:CEST
DTSTART:20240331T010000
END:DAYLIGHT
BEGIN:STANDARD
TZOFFSETFROM:+0200
TZOFFSETTO:+0100
TZNAME:CET
DTSTART:20241027T010000
END:STANDARD
BEGIN:DAYLIGHT
TZOFFSETFROM:+0100
TZOFFSETTO:+0200
TZNAME:CEST
DTSTART:20250330T010000
END:DAYLIGHT
BEGIN:STANDARD
TZOFFSETFROM:+0200
TZOFFSETTO:+0100
TZNAME:CET
DTSTART:20251026T010000
END:STANDARD
BEGIN:DAYLIGHT
TZOFFSETFROM:+0100
TZOFFSETTO:+0200
TZNAME:CEST
DTSTART:20260329T010000
END:DAYLIGHT
BEGIN:STANDARD
TZOFFSETFROM:+0200
TZOFFSETTO:+0100
TZNAME:CET
DTSTART:20261025T010000
END:STANDARD
END:VTIMEZONE
BEGIN:VEVENT
DTSTART;TZID=Europe/Berlin:20250706T180000
DTEND;TZID=Europe/Berlin:20250706T200000
DTSTAMP:20260421T141536
CREATED:20250526T065503Z
LAST-MODIFIED:20250618T075642Z
UID:1532-1751824800-1751832000@raum-der-stille-deggendorf.de
SUMMARY:Kundalini Special mit Sandra Kristina Kress
DESCRIPTION:Kundalini Special mit Sandra Kristina Kress\nab 18:00 Uhr\nKundalini Activation\nGruppensession\nSpecial mit blauem Lotus \nAnmeldung bitte direkt bei Sandra. —–AUSGEBUCHT\nKosten: 70\,00 Euro
URL:https://raum-der-stille-deggendorf.de/veranstaltung/kundalini-special-mit-sandra-kristina-kress/
LOCATION:Raum der Stille\, Deggendorf
END:VEVENT
BEGIN:VEVENT
DTSTART;TZID=Europe/Berlin:20250713T180000
DTEND;TZID=Europe/Berlin:20250713T200000
DTSTAMP:20260421T141536
CREATED:20250526T065741Z
LAST-MODIFIED:20250611T075703Z
UID:1534-1752429600-1752436800@raum-der-stille-deggendorf.de
SUMMARY:Women's Circle mit Sandra Kristina Kress
DESCRIPTION:Women´s CIRCLE mit Sandra Kristina Kress im Raum der Stille\nSonntag\, den 13.07.2025 von 18:00 Uhr bis ca. 20:00 Uhr\nZeit für DICH\ndie Seele baumeln lassen und gestärkt zurück kommen \nMit Kakaozeremonie zur Herzöffnung\nTanzen um die Seele zu spüren\nMeditieren für Klarheit \nBitte um Anmeldung bei Sandra Kristina Kress (Teilnehmerzahl begrenzt)\nKosten: 25\,00 Euro + (das Plus deshalb\, weil Ihr gerne mehr geben dürft. Sandra spendet die Einnahmen an Donum Vitae)\nBitte bring dir deine eigene Matte mit\, gerne auch ein Sitzkissen und Decke. Bring bitte auch deine Lieblingstasse mit und zieh dir eine bequeme Kleidung an\, in der du dich wohl fühlst. \n 
URL:https://raum-der-stille-deggendorf.de/veranstaltung/womens-circle-mit-sandra-kristina-kress-2/
LOCATION:Raum der Stille\, Deggendorf
END:VEVENT
BEGIN:VEVENT
DTSTART;TZID=Europe/Berlin:20250727T180000
DTEND;TZID=Europe/Berlin:20250727T200000
DTSTAMP:20260421T141536
CREATED:20250618T072842Z
LAST-MODIFIED:20250618T075928Z
UID:1578-1753639200-1753646400@raum-der-stille-deggendorf.de
SUMMARY:Kundalini Special Gruppensession mit Sandra Kristina Kress
DESCRIPTION:Kundalini Special mit Sandra Kristina Kress – Gruppensession\nab 18:00 Uhr bis ca. 20:00 Uhr/20:30 Uhr\nKundalini Activation\nGruppensession\nSpecial mit blauem Lotus \nAnmeldung bitte direkt bei Sandra. Begrenzte Plätze (findet drinnen statt)\nKosten: 70\,00 Euro
URL:https://raum-der-stille-deggendorf.de/veranstaltung/kundalini-special-mit-sandra-kristina-kress-2/
LOCATION:Raum der Stille\, Deggendorf
END:VEVENT
END:VCALENDAR