BEGIN:VCALENDAR
VERSION:2.0
PRODID:-//Raum der Stille Deggendorf - ECPv6.15.20//NONSGML v1.0//EN
CALSCALE:GREGORIAN
METHOD:PUBLISH
X-WR-CALNAME:Raum der Stille Deggendorf
X-ORIGINAL-URL:https://raum-der-stille-deggendorf.de
X-WR-CALDESC:Veranstaltungen für Raum der Stille Deggendorf
REFRESH-INTERVAL;VALUE=DURATION:PT1H
X-Robots-Tag:noindex
X-PUBLISHED-TTL:PT1H
BEGIN:VTIMEZONE
TZID:Europe/Berlin
BEGIN:DAYLIGHT
TZOFFSETFROM:+0100
TZOFFSETTO:+0200
TZNAME:CEST
DTSTART:20250330T010000
END:DAYLIGHT
BEGIN:STANDARD
TZOFFSETFROM:+0200
TZOFFSETTO:+0100
TZNAME:CET
DTSTART:20251026T010000
END:STANDARD
BEGIN:DAYLIGHT
TZOFFSETFROM:+0100
TZOFFSETTO:+0200
TZNAME:CEST
DTSTART:20260329T010000
END:DAYLIGHT
BEGIN:STANDARD
TZOFFSETFROM:+0200
TZOFFSETTO:+0100
TZNAME:CET
DTSTART:20261025T010000
END:STANDARD
BEGIN:DAYLIGHT
TZOFFSETFROM:+0100
TZOFFSETTO:+0200
TZNAME:CEST
DTSTART:20270328T010000
END:DAYLIGHT
BEGIN:STANDARD
TZOFFSETFROM:+0200
TZOFFSETTO:+0100
TZNAME:CET
DTSTART:20271031T010000
END:STANDARD
END:VTIMEZONE
BEGIN:VEVENT
DTSTART;TZID=Europe/Berlin:20260827T171500
DTEND;TZID=Europe/Berlin:20260827T180000
DTSTAMP:20260420T093705
CREATED:20260127T072641Z
LAST-MODIFIED:20260222T113240Z
UID:1942-1787850900-1787853600@raum-der-stille-deggendorf.de
SUMMARY:Progressive Muskelrelaxation (PMR) mit Sandra Schwarzmann
DESCRIPTION:PMR – Progressive Muskelrelaxation mit Sandra Schwarzmann\nDonnerstag\, den 27.08.2026 von 17:15 Uhr bis 18:00 Uhr im Raum der Stille \nDie Progressive Muskelrelaxation (PMR) ist eine wissenschaftlich anerkannte Entspannungsmethode.\nDabei spannst du einzelne Muskelgruppen bewusst an und lässt sie anschließend wieder locker.\nDurch diesen Wechsel zwischen Anspannung und Entspannung lernt dein Körper\, Spannungszustände schneller wahrzunehmen – und aktiv loszulassen. \nWie wirkt PMR?\n– reduziert körperliche Anspannung\n– beruhigt dein Nervensystem\n– senkt Stress\n– kann Ängste und innere Unruhe verringern\n– verbessert Schlaf und Körperwahrnehmung\nPMR wirkt besonders gut\, wenn Stress isch körperlich zeigt\, z. B. durch Druck\, Enge\, Unruhe oder Verspannungen. \nBitte bei Sandra direkt anmelden (WhatsApp oder telefonisch). Findet drinnen statt – die Plätze sind begrenzt.\nAuf Spendenbasis (bedeutet: zahl so viel Du kannst/magst. Gerne etwas mehr – so lädst Du jemanden ein\, der nicht so viel hat)\nBitte bring Dir eine Matte mit\, gerne auch eine Decke und etwas zu trinken. Komm in bequemer\, dem Wetter angepasster Kleidung.\nEs sind keine Vorkenntnisse erforderlich. Jeder ist herzlich Willkommen.
URL:https://raum-der-stille-deggendorf.de/veranstaltung/progressive-muskelrelaxation-mit-sandra-schwarzmann-2/
LOCATION:Raum der Stille\, Deggendorf
ORGANIZER;CN="Sandra Schwarzmann":MAILTO:sonnenklarcoaching@gmx.de
END:VEVENT
END:VCALENDAR