BEGIN:VCALENDAR
VERSION:2.0
PRODID:-//Raum der Stille Deggendorf - ECPv6.15.20//NONSGML v1.0//EN
CALSCALE:GREGORIAN
METHOD:PUBLISH
X-ORIGINAL-URL:https://raum-der-stille-deggendorf.de
X-WR-CALDESC:Veranstaltungen für Raum der Stille Deggendorf
REFRESH-INTERVAL;VALUE=DURATION:PT1H
X-Robots-Tag:noindex
X-PUBLISHED-TTL:PT1H
BEGIN:VTIMEZONE
TZID:Europe/Berlin
BEGIN:DAYLIGHT
TZOFFSETFROM:+0100
TZOFFSETTO:+0200
TZNAME:CEST
DTSTART:20250330T010000
END:DAYLIGHT
BEGIN:STANDARD
TZOFFSETFROM:+0200
TZOFFSETTO:+0100
TZNAME:CET
DTSTART:20251026T010000
END:STANDARD
BEGIN:DAYLIGHT
TZOFFSETFROM:+0100
TZOFFSETTO:+0200
TZNAME:CEST
DTSTART:20260329T010000
END:DAYLIGHT
BEGIN:STANDARD
TZOFFSETFROM:+0200
TZOFFSETTO:+0100
TZNAME:CET
DTSTART:20261025T010000
END:STANDARD
BEGIN:DAYLIGHT
TZOFFSETFROM:+0100
TZOFFSETTO:+0200
TZNAME:CEST
DTSTART:20270328T010000
END:DAYLIGHT
BEGIN:STANDARD
TZOFFSETFROM:+0200
TZOFFSETTO:+0100
TZNAME:CET
DTSTART:20271031T010000
END:STANDARD
END:VTIMEZONE
BEGIN:VEVENT
DTSTART;TZID=Europe/Berlin:20260809T093000
DTEND;TZID=Europe/Berlin:20260809T120000
DTSTAMP:20260420T101252
CREATED:20260223T083242Z
LAST-MODIFIED:20260320T180132Z
UID:2116-1786267800-1786276800@raum-der-stille-deggendorf.de
SUMMARY:Mini-Retreat für Schwangere mit Sarah Knittl
DESCRIPTION:Sonntag\, den 09.08.2026 von 9:30 Uhr bis 12:00Uhr\nMini-Retreat für Schwangere mit Sarah Knittl \nVon Sarah für Dich:\nDieses Mini-Retreat ist eine liebevolle Einladung an dich als werdende Mama\, dir bewusst Zeit für dich und dein Baby zu schenken. Hier darfst du vom Denken ins Spüren kommen und zur Ruhe finden. \nWie würde es sich für dich anfühlen\, wenn du für einen Moment nicht nur als Schwangere „funktionierst“\, sondern dich selber und dein Baby spüren darfst und was euch gerade guttut? Vielleicht sehnst du dich danach\, einfach mal bei dir selbst als werdende Mama anzukommen\, durchzuatmen und dein Baby zu spüren. Es ist Zeit aus dem Funktionieren ins Sein zu kommen und diese ganz besondere Zeit in liebevoller Gemeinschaft wahrzunehmen. \nGemeinsam schaffen wir einen sicheren Raum für werdende Mamas\, Verbindung zu dir selbst & deinem Baby und spürbare Achtsamkeit. In diesem Mini-Retreat erlebst du: \n\nSanftes Schwangerschaftsyoga & Atemübungen – Dich selbst liebevoll spüren und dich mental zur Ruhe bringen\nKlang & Meditation – Dich wohlfühlen und dich mit deinem kleinen Wesen im Bauch verbinden\nHerzensmomente – Verbindung mit anderen werdenden Mamas spüren und zelebrieren\nWertvolle Zeit für dich und dein Baby – Ohne Erwartungen einfach mal Durchatmen und das Hier & Jetzt genießen\n\nIch freu mich auf dich und diese ganz besondere Zeit! \nEnergieausgleich: 45 € (auch hier gilt wieder: wenn dir dieses Angebot gut tun würde\, du aber momentan keinen finanziellen Spielraum für derlei Ausgaben hast: bitte schreib eine Mail an kontakt@raum-der-stille-deggendorf.de. Wir finden gemeinsam eine Lösung 💗) \nAchtung: Bitte kläre vor deiner Teilnahme mit deiner Hebamme oder deinem Arzt\, ob Yoga während deiner Schwangerschaft geeignet ist. \nBegrenzte Teilnehmerzahl für eine verbindende und achtsame Atmosphäre unter werdenden Mamas! Anmeldung bis zum 26.07.2026 direkt bei Sarah \n(Übrigens: da im Raum der Stille keine Toiletten vor Ort sind\, ist eine gemeinsame Toiletten-Pause eingeplant)
URL:https://raum-der-stille-deggendorf.de/veranstaltung/mini-retreat-fuer-schwangere-mit-sarah-knittl/
LOCATION:Raum der Stille\, Deggendorf
END:VEVENT
END:VCALENDAR