BEGIN:VCALENDAR
VERSION:2.0
PRODID:-//Raum der Stille Deggendorf - ECPv6.15.20//NONSGML v1.0//EN
CALSCALE:GREGORIAN
METHOD:PUBLISH
X-ORIGINAL-URL:https://raum-der-stille-deggendorf.de
X-WR-CALDESC:Veranstaltungen für Raum der Stille Deggendorf
REFRESH-INTERVAL;VALUE=DURATION:PT1H
X-Robots-Tag:noindex
X-PUBLISHED-TTL:PT1H
BEGIN:VTIMEZONE
TZID:Europe/Berlin
BEGIN:DAYLIGHT
TZOFFSETFROM:+0100
TZOFFSETTO:+0200
TZNAME:CEST
DTSTART:20240331T010000
END:DAYLIGHT
BEGIN:STANDARD
TZOFFSETFROM:+0200
TZOFFSETTO:+0100
TZNAME:CET
DTSTART:20241027T010000
END:STANDARD
BEGIN:DAYLIGHT
TZOFFSETFROM:+0100
TZOFFSETTO:+0200
TZNAME:CEST
DTSTART:20250330T010000
END:DAYLIGHT
BEGIN:STANDARD
TZOFFSETFROM:+0200
TZOFFSETTO:+0100
TZNAME:CET
DTSTART:20251026T010000
END:STANDARD
BEGIN:DAYLIGHT
TZOFFSETFROM:+0100
TZOFFSETTO:+0200
TZNAME:CEST
DTSTART:20260329T010000
END:DAYLIGHT
BEGIN:STANDARD
TZOFFSETFROM:+0200
TZOFFSETTO:+0100
TZNAME:CET
DTSTART:20261025T010000
END:STANDARD
END:VTIMEZONE
BEGIN:VEVENT
DTSTART;TZID=Europe/Berlin:20250709T170000
DTEND;TZID=Europe/Berlin:20250709T190000
DTSTAMP:20260421T210721
CREATED:20250610T101158Z
LAST-MODIFIED:20250625T075607Z
UID:1558-1752080400-1752087600@raum-der-stille-deggendorf.de
SUMMARY:Schamanische Trance- & Trommelreise "Der Flug der Seele" mit Matthias Geier
DESCRIPTION:Schamanische Trance- & Trommelreise „Der Flug der Seele“ mit Matthias Geier\nTermine: jeweils Mittwoch am 09.07.2025\, 16.07.2025\, und 23.07.2025 um 17:00 Uhr bis ca. 19:00 Uhr\nAusgleich: ab 15\,00 Euro bis 30\,00 Euro\nBitte um Anmeldung direkt bei Matthias per Anruf\, WhatsApp\, SMS\nBegrenzte Platzzahl. \nEs sind keine Vorkenntnisse erforderlich. Lass Dich gerne einfach darauf ein.\nBitte bring Dir etwas zum drauflegen mit (Matte/Decke)\, ein Tuch um die Augen zu verbinden\, evtl. Kissen und Decke falls Du das möchtest um Dich wohl zu fühlen. Zieh Dir etwas bequemes an. Bitte bring Dir eine Wasserflache mit (Wasser ist im Stadthallenpark vorhanden. Waldwasserbrunnen nicht weit vom Raum der Stille entfernt).
URL:https://raum-der-stille-deggendorf.de/veranstaltung/schamanische-trance-und-trommelreise-mit-matthias-geier/
LOCATION:Raum der Stille\, Deggendorf
END:VEVENT
BEGIN:VEVENT
DTSTART;TZID=Europe/Berlin:20250716T170000
DTEND;TZID=Europe/Berlin:20250716T190000
DTSTAMP:20260421T210721
CREATED:20250610T101303Z
LAST-MODIFIED:20250625T075528Z
UID:1561-1752685200-1752692400@raum-der-stille-deggendorf.de
SUMMARY:Schamanische Trance- & Trommelreise "Der Flug der Seele" mit Matthias Geier
DESCRIPTION:Schamanische Trance- & Trommelreise „Der Flug der Seele“ mit Matthias Geier\nTermine: jeweils Mittwoch am 16.07.2025\, und 23.07.2025 um 17:00 Uhr bis ca. 19:00 Uhr\nAusgleich: ab 15\,00 Euro bis 30\,00 Euro\nBitte um Anmeldung direkt bei Matthias per Anruf\, WhatsApp\, SMS\nBegrenzte Teilnehmerzahl. \nEs sind keine Vorkenntnisse erforderlich. Lass Dich gerne einfach darauf ein.\nBitte bring Dir etwas zum drauflegen mit (Matte/Decke)\, ein Tuch um die Augen zu verbinden\, evtl. Kissen und Decke falls Du das möchtest um Dich wohl zu fühlen. Zieh Dir etwas bequemes an. Bitte bring Dir eine Wasserflache mit (Wasser ist im Stadthallenpark vorhanden. Der Waldwasserbrunnen nicht weit vom Raum der Stille entfernt).
URL:https://raum-der-stille-deggendorf.de/veranstaltung/schamanische-trance-und-trommelreise-mit-matthias-geier-2/
LOCATION:Raum der Stille\, Deggendorf
END:VEVENT
BEGIN:VEVENT
DTSTART;TZID=Europe/Berlin:20250723T170000
DTEND;TZID=Europe/Berlin:20250723T190000
DTSTAMP:20260421T210721
CREATED:20250610T101523Z
LAST-MODIFIED:20250625T075443Z
UID:1563-1753290000-1753297200@raum-der-stille-deggendorf.de
SUMMARY:Schamanische Trance- & Trommelreise "Der Flug der Seele" mit Matthias Geier
DESCRIPTION:Schamanische Trance- & Trommelreise „Der Flug der Seele“ mit Matthias Geier\nAm Mittwoch\, den 23.07.2025 um 17:00 Uhr bis ca. 19:00 Uhr\nAusgleich: ab 15\,00 Euro bis 30\,00 Euro\nBitte um Anmeldung direkt bei Matthias per Anruf\, WhatsApp\, SMS\nBegrenzte Teilnehmerzahl. \nEs sind keine Vorkenntnisse erforderlich. Lass Dich gerne einfach darauf ein.\nBitte bring Dir etwas zum drauflegen mit (Matte/Decke)\, ein Tuch um die Augen zu verbinden\, evtl. Kissen und Decke falls Du das möchtest um Dich wohl zu fühlen. Zieh Dir etwas bequemes an. Bitte bring Dir eine Wasserflache mit (Wasser ist im Stadthallenpark vorhanden. Der Waldwasserbrunnen nicht weit vom Raum der Stille entfernt).
URL:https://raum-der-stille-deggendorf.de/veranstaltung/schamanische-trance-und-trommelreise-mit-matthias-geier-3/
LOCATION:Raum der Stille\, Deggendorf
END:VEVENT
END:VCALENDAR