BEGIN:VCALENDAR
VERSION:2.0
PRODID:-//Raum der Stille Deggendorf - ECPv6.15.20//NONSGML v1.0//EN
CALSCALE:GREGORIAN
METHOD:PUBLISH
X-WR-CALNAME:Raum der Stille Deggendorf
X-ORIGINAL-URL:https://raum-der-stille-deggendorf.de
X-WR-CALDESC:Veranstaltungen für Raum der Stille Deggendorf
REFRESH-INTERVAL;VALUE=DURATION:PT1H
X-Robots-Tag:noindex
X-PUBLISHED-TTL:PT1H
BEGIN:VTIMEZONE
TZID:Europe/Berlin
BEGIN:DAYLIGHT
TZOFFSETFROM:+0100
TZOFFSETTO:+0200
TZNAME:CEST
DTSTART:20240331T010000
END:DAYLIGHT
BEGIN:STANDARD
TZOFFSETFROM:+0200
TZOFFSETTO:+0100
TZNAME:CET
DTSTART:20241027T010000
END:STANDARD
BEGIN:DAYLIGHT
TZOFFSETFROM:+0100
TZOFFSETTO:+0200
TZNAME:CEST
DTSTART:20250330T010000
END:DAYLIGHT
BEGIN:STANDARD
TZOFFSETFROM:+0200
TZOFFSETTO:+0100
TZNAME:CET
DTSTART:20251026T010000
END:STANDARD
BEGIN:DAYLIGHT
TZOFFSETFROM:+0100
TZOFFSETTO:+0200
TZNAME:CEST
DTSTART:20260329T010000
END:DAYLIGHT
BEGIN:STANDARD
TZOFFSETFROM:+0200
TZOFFSETTO:+0100
TZNAME:CET
DTSTART:20261025T010000
END:STANDARD
END:VTIMEZONE
BEGIN:VEVENT
DTSTART;TZID=Europe/Berlin:20250820T183000
DTEND;TZID=Europe/Berlin:20250820T193000
DTSTAMP:20260420T233524
CREATED:20250508T093000Z
LAST-MODIFIED:20250801T084554Z
UID:1483-1755714600-1755718200@raum-der-stille-deggendorf.de
SUMMARY:Ashtanga Yoga meets Yin Yoga mit Gisi Pledl
DESCRIPTION:Ashtanga Yoga meets Yin Yoga mit Gisi Pledl\nam Mittwoch\, den 20.08.2025 von 18:30 Uhr bis 19:30 Uhr (könnte auch 19:45 Uhr werden) \nIn dieser besonderen Yogastunde verschmelzen zwei scheinbar gegensätzliche Yogastile zu einer ganzheitlichen Praxis:\nDie dynamisch-kraftvolle Energie des Ashtanga Yoga trifft auf die meditative Tiefe des Yin Yoga.\nWir beginnen mit einer aktivierenden Sequenz aus dem Ashtanga Yoga – basierend auf der Primary Series – um den Körper zu wärmen\, den Atem zu vertiefen und die Muskulatur gezielt zu kräftigen. Anschließend lassen wir den Atem ruhiger werden und tauchen in lange gehaltene Yin-Positionen ein\, um das Fasziengewebe zu dehnen\, Spannungen loszulassen und die innere Ruhe zu fördern.\nDiese Klasse ist ideal für alle\, die körperlich gefordert werden möchten und gleichzeitig die regenerative Kraft der Stille erfahren wollen. \nGeeignet für alle Yogis mit Grundkenntnissen in Ashtanga oder Vinyasa. Auch Yin-Neulinge sind herzlich willkommen. \nBring dir bitte deine Yogamatte mit und gerne auch eine Wasserflasche. Trinkwasser ist nah am Raum der Stille aus dem Waldwasser-Enten-Brunnen frisch zu zapfen. Es ist keine Anmeldung nötig. Findet bei gutem Wetter draussen statt – bei schlechtem Wetter drinnen (Obacht: drinnen begrenzte Platzzahl).\nAuf Spendenbasis (bedeutet: gib so viel du magst/kannst. Gerne mehr. So lädst du jemanden ein\, der nicht so viel hat ❤️)
URL:https://raum-der-stille-deggendorf.de/veranstaltung/ashtanga-yoga-meets-yin-yoga-mit-gisi-pledl/
LOCATION:Raum der Stille\, Deggendorf
END:VEVENT
BEGIN:VEVENT
DTSTART;TZID=Europe/Berlin:20250827T180000
DTEND;TZID=Europe/Berlin:20250827T191500
DTSTAMP:20260420T233524
CREATED:20250727T122421Z
LAST-MODIFIED:20250727T123302Z
UID:1736-1756317600-1756322100@raum-der-stille-deggendorf.de
SUMMARY:Flow to YinYoga mit Johanna Fleischmann
DESCRIPTION:Flow to YinYoga mit Johanna Fleischmann am Mittwoch\, den 27.08.2025 von 18:00 Uhr bis 19:15 Uhr \nWir kommen gemeinsam in Bewegung\, fließen durch Sonnengrüße\, werden ruhiger bis wir letztlich ganz in Stille bei uns ankommen.\nYoga ist für jeden! Alle sind willkommen – natürlich auch Anfänger. \nBei schönem Wetter draußen – bei schlechtem Wetter drinnen (Obacht: drinnen begrenze Plätze).\nBitte bring dir deine Matte\, eine Decke und auch ein Kissen mit.\nBitte bei Hanna anmelden. Teilnahmegebühr: 17\,00 Euro
URL:https://raum-der-stille-deggendorf.de/veranstaltung/flow-to-yinyoga-mit-johanna-fleischmann/
LOCATION:Raum der Stille\, Deggendorf
END:VEVENT
END:VCALENDAR