BEGIN:VCALENDAR
VERSION:2.0
PRODID:-//Raum der Stille Deggendorf - ECPv6.15.20//NONSGML v1.0//EN
CALSCALE:GREGORIAN
METHOD:PUBLISH
X-ORIGINAL-URL:https://raum-der-stille-deggendorf.de
X-WR-CALDESC:Veranstaltungen für Raum der Stille Deggendorf
REFRESH-INTERVAL;VALUE=DURATION:PT1H
X-Robots-Tag:noindex
X-PUBLISHED-TTL:PT1H
BEGIN:VTIMEZONE
TZID:Europe/Berlin
BEGIN:DAYLIGHT
TZOFFSETFROM:+0100
TZOFFSETTO:+0200
TZNAME:CEST
DTSTART:20240331T010000
END:DAYLIGHT
BEGIN:STANDARD
TZOFFSETFROM:+0200
TZOFFSETTO:+0100
TZNAME:CET
DTSTART:20241027T010000
END:STANDARD
BEGIN:DAYLIGHT
TZOFFSETFROM:+0100
TZOFFSETTO:+0200
TZNAME:CEST
DTSTART:20250330T010000
END:DAYLIGHT
BEGIN:STANDARD
TZOFFSETFROM:+0200
TZOFFSETTO:+0100
TZNAME:CET
DTSTART:20251026T010000
END:STANDARD
BEGIN:DAYLIGHT
TZOFFSETFROM:+0100
TZOFFSETTO:+0200
TZNAME:CEST
DTSTART:20260329T010000
END:DAYLIGHT
BEGIN:STANDARD
TZOFFSETFROM:+0200
TZOFFSETTO:+0100
TZNAME:CET
DTSTART:20261025T010000
END:STANDARD
END:VTIMEZONE
BEGIN:VEVENT
DTSTART;TZID=Europe/Berlin:20250915T180000
DTEND;TZID=Europe/Berlin:20250915T191500
DTSTAMP:20260420T173356
CREATED:20250727T123220Z
LAST-MODIFIED:20250727T123855Z
UID:1739-1757959200-1757963700@raum-der-stille-deggendorf.de
SUMMARY:Flow to YinYoga mit Johanna Fleischmann
DESCRIPTION:Flow to YinYoga mit Johanna Fleischmann am Montag\, den 15.09.2025 von 18:00 Uhr bis 19:15 Uhr \nWir kommen gemeinsam in Bewegung\, fließen durch Sonnengrüße\, werden ruhiger bis wir letztlich ganz in Stille bei uns ankommen.\nYoga ist für jeden! Alle sind willkommen – natürlich auch Anfänger. \nBei schönem Wetter draußen – bei schlechtem Wetter drinnen (Obacht: drinnen begrenze Plätze).\nBitte bring dir deine Matte\, eine Decke und auch ein Kissen mit.\nBitte bei Hanna anmelden. Teilnahmegebühr: 17\,00 Euro
URL:https://raum-der-stille-deggendorf.de/veranstaltung/flow-to-yinyoga-mit-johanna-fleischmann-2/
LOCATION:Raum der Stille\, Deggendorf
END:VEVENT
BEGIN:VEVENT
DTSTART;TZID=Europe/Berlin:20250922T180000
DTEND;TZID=Europe/Berlin:20250922T191500
DTSTAMP:20260420T173356
CREATED:20250727T123609Z
LAST-MODIFIED:20250727T123609Z
UID:1741-1758564000-1758568500@raum-der-stille-deggendorf.de
SUMMARY:Flow to YinYoga mit Johanna Fleischmann
DESCRIPTION:Flow to YinYoga mit Johanna Fleischmann am Montag\, den 22.09.2025 von 18:00 Uhr bis 19:15 Uhr \nWir kommen gemeinsam in Bewegung\, fließen durch Sonnengrüße\, werden ruhiger bis wir letztlich ganz in Stille bei uns ankommen.\nYoga ist für jeden! Alle sind willkommen – natürlich auch Anfänger. \nBei schönem Wetter draußen – bei schlechtem Wetter drinnen (Obacht: drinnen begrenze Plätze).\nBitte bring dir deine Matte\, eine Decke und auch ein Kissen mit.\nBitte bei Hanna anmelden. Teilnahmegebühr: 17\,00 Euro
URL:https://raum-der-stille-deggendorf.de/veranstaltung/flow-to-yinyoga-mit-johanna-fleischmann-3/
LOCATION:Raum der Stille\, Deggendorf
END:VEVENT
END:VCALENDAR