BEGIN:VCALENDAR
VERSION:2.0
PRODID:-//Raum der Stille Deggendorf - ECPv6.15.20//NONSGML v1.0//EN
CALSCALE:GREGORIAN
METHOD:PUBLISH
X-WR-CALNAME:Raum der Stille Deggendorf
X-ORIGINAL-URL:https://raum-der-stille-deggendorf.de
X-WR-CALDESC:Veranstaltungen für Raum der Stille Deggendorf
REFRESH-INTERVAL;VALUE=DURATION:PT1H
X-Robots-Tag:noindex
X-PUBLISHED-TTL:PT1H
BEGIN:VTIMEZONE
TZID:Europe/Berlin
BEGIN:DAYLIGHT
TZOFFSETFROM:+0100
TZOFFSETTO:+0200
TZNAME:CEST
DTSTART:20250330T010000
END:DAYLIGHT
BEGIN:STANDARD
TZOFFSETFROM:+0200
TZOFFSETTO:+0100
TZNAME:CET
DTSTART:20251026T010000
END:STANDARD
BEGIN:DAYLIGHT
TZOFFSETFROM:+0100
TZOFFSETTO:+0200
TZNAME:CEST
DTSTART:20260329T010000
END:DAYLIGHT
BEGIN:STANDARD
TZOFFSETFROM:+0200
TZOFFSETTO:+0100
TZNAME:CET
DTSTART:20261025T010000
END:STANDARD
BEGIN:DAYLIGHT
TZOFFSETFROM:+0100
TZOFFSETTO:+0200
TZNAME:CEST
DTSTART:20270328T010000
END:DAYLIGHT
BEGIN:STANDARD
TZOFFSETFROM:+0200
TZOFFSETTO:+0100
TZNAME:CET
DTSTART:20271031T010000
END:STANDARD
END:VTIMEZONE
BEGIN:VEVENT
DTSTART;TZID=Europe/Berlin:20260918T093000
DTEND;TZID=Europe/Berlin:20260918T110000
DTSTAMP:20260420T154537
CREATED:20260323T085205Z
LAST-MODIFIED:20260412T132946Z
UID:2639-1789723800-1789729200@raum-der-stille-deggendorf.de
SUMMARY:Aroma Yin Yoga - stressfrei ins Wochenende mit Geraldine Kränzle-Kuprian
DESCRIPTION:Aroma Yin Yoga – stressfrei ins Wochenende mit Geraldine Kränzle-Kuprian im Raum der Stille\nFreitag\, den 18.09.2026 von 09:30 Uhr bis 11:00 Uhr \nVon Geraldine für Euch:\nPassend zum Einstieg ins Wochenende lädt diese ruhige\, meditative Yin Yoga Praxis dazu ein\, innerlich zur Ruhe zu kommen\, Altes bewusst loszulassen und eine sanfte Intention für das zu setzen\, was kommen darf. Der Duft der ätherischen Öle wird dich dabei mental und emotional begleiten.\n\nDie Stunde ist für alle geeignet\, vom Yoga Neuling bis zum erfahren Yogi\, keine Vorkenntnisse nötig.\nBitte mitbringen: Yogamatte\, Decke\, ein Kissen und ein dickes Handtuch zum Rollen.\nTrage bitte bequeme\, sportliche Kleidung (angepasst an die Temperaturen).\n\n\nDie Teilnahme erfolgt auf Spendenbasis. Gib gerne das\, was sich für dich stimmig anfühlt und möglich ist.\nDie Einnahmen werden an das Kinderhospiz „Arche Herzensbrücken“ gespendet. \nAnmeldung direkt bei Geraldine per WhatsApp unter 0175-5870880 oder per Email unter geraldine@oildrops.de \nIch freue mich auf unser gemeinsame Zeit auf der Matte!
URL:https://raum-der-stille-deggendorf.de/veranstaltung/aroma-yinyoga-mit-geraldine-kraenzle-kuprian/
LOCATION:Raum der Stille\, Deggendorf
ORGANIZER;CN="Geraldine Kr%C3%A4nzle-Kuprian":MAILTO:geraldine@oildrops.de
END:VEVENT
END:VCALENDAR