BEGIN:VCALENDAR
VERSION:2.0
PRODID:-//Raum der Stille Deggendorf - ECPv6.15.20//NONSGML v1.0//EN
CALSCALE:GREGORIAN
METHOD:PUBLISH
X-WR-CALNAME:Raum der Stille Deggendorf
X-ORIGINAL-URL:https://raum-der-stille-deggendorf.de
X-WR-CALDESC:Veranstaltungen für Raum der Stille Deggendorf
REFRESH-INTERVAL;VALUE=DURATION:PT1H
X-Robots-Tag:noindex
X-PUBLISHED-TTL:PT1H
BEGIN:VTIMEZONE
TZID:Europe/Berlin
BEGIN:DAYLIGHT
TZOFFSETFROM:+0100
TZOFFSETTO:+0200
TZNAME:CEST
DTSTART:20240331T010000
END:DAYLIGHT
BEGIN:STANDARD
TZOFFSETFROM:+0200
TZOFFSETTO:+0100
TZNAME:CET
DTSTART:20241027T010000
END:STANDARD
BEGIN:DAYLIGHT
TZOFFSETFROM:+0100
TZOFFSETTO:+0200
TZNAME:CEST
DTSTART:20250330T010000
END:DAYLIGHT
BEGIN:STANDARD
TZOFFSETFROM:+0200
TZOFFSETTO:+0100
TZNAME:CET
DTSTART:20251026T010000
END:STANDARD
BEGIN:DAYLIGHT
TZOFFSETFROM:+0100
TZOFFSETTO:+0200
TZNAME:CEST
DTSTART:20260329T010000
END:DAYLIGHT
BEGIN:STANDARD
TZOFFSETFROM:+0200
TZOFFSETTO:+0100
TZNAME:CET
DTSTART:20261025T010000
END:STANDARD
END:VTIMEZONE
BEGIN:VEVENT
DTSTART;TZID=Europe/Berlin:20251007T180000
DTEND;TZID=Europe/Berlin:20251007T190000
DTSTAMP:20260421T054628
CREATED:20250811T132124Z
LAST-MODIFIED:20250914T113924Z
UID:1837-1759860000-1759863600@raum-der-stille-deggendorf.de
SUMMARY:Dein innerer Kompass - Yoga Nidra & Coaching mit Adrianna Berezowska
DESCRIPTION:Dein innerer Kompass – Yoga Nidra & Coaching\nDonnerstag\, den 07.10.2025 von 18:00 Uhr bis 19:00 Uhr mit Adrianna Berezowska \nDein innerer Kompass kennt den Weg – du musst nur still werden\, um ihn zu hören.\nErlebe eine geführte Yoga-Nidra-Reise und finde im anschließenden Coaching heraus\, welche nächsten Schritte dir Klarheit geben und dir helfen\, deinen Weg bewusst zu gestalten. \nBitte direkt bei Adrianna anmelden. Preis: Zahle\, was du kannst (Empfehlung der Wertschätzung 35€)\nBitte bring dir eine Matte\, eine Decke\, wenn du möchtest auch ein Kissen\, eine Trinkflasche\, Socken und Papier und Stift mit.\nKomm in bequemer\, dem Wetter angepasst warmer Kleidung.\nDer Kurs findet drinnen statt (begrenzte Plätze). \n \n 
URL:https://raum-der-stille-deggendorf.de/veranstaltung/dein-innerer-kompass-yoga-nidra-und-coaching-mit-adrianna/
LOCATION:Raum der Stille\, Deggendorf
END:VEVENT
END:VCALENDAR